BEGIN:VCALENDAR
VERSION:2.0
PRODID:-//ChamberMaster//Event Calendar 2.0//EN
METHOD:PUBLISH
X-PUBLISHED-TTL:P3D
REFRESH-INTERVAL:P3D
CALSCALE:GREGORIAN
BEGIN:VEVENT
DTSTART:20191006T230000Z
DTEND:20191007T020000Z
X-MICROSOFT-CDO-ALLDAYEVENT:FALSE
SUMMARY:Solano Land Trust presents Sunday Supper a Farm to Table Dinner
DESCRIPTION:Solano Land Trust is honored to host our Sunday Supper in recognition of your lasting commitment to land conservation. Enjoy an extraordinary evening filled with stories of the land and live music.\n\n\n\n\n\n\n\n\nWe are proud to present Chef Ken Frank\, Executive Chef/Owner of Napa Valley La Toque Restaurant   Winner 2018 Michelin Star | 2018 Wine Spectator Grand Award\n\nDine on a sumptuous meal and join us and your fellow kindred spirits for this evening of rustic elegance!\n\n\n\nTickets are limited.\n\nSingle tickets are $150. A full table of 8 is $1\,200.\n\nIn addition\, Business Sponsorships are available\n\nPlease join us @ Joyful Ranch\n\nDate: October 6th\, 2019\, Sunday\n\nTime: 4:00- 7:00 p.m.\n\nLocation: Joyful Ranch | 8212 Pleasants Valley Rd. | Vacaville\, CA 95688\n\nTickets may be purchase through Solano Land Trust only.\n\nClick here to purchase tickets.\n\nPhone: 707-432-0150\n\nEmail: Michelle@solanolandtrust.org
X-ALT-DESC;FMTTYPE=text/html:<div style="margin-left:0px\; margin-right:0px\; text-align:left">\n<div style="margin-left:0px\; margin-right:0px">\n<div style="margin-left:0px\; margin-right:0px">\n<div style="margin-left:0px\; margin-right:0px\; text-align:center"><strong><em>Solano Land Trust is honored to host our Sunday Supper in recognition of your lasting commitment to land conservation. Enjoy an extraordinary evening filled with stories of the land and live music.</em></strong></div>\n</div>\n</div>\n</div>\n\n<div style="margin-left:0px\; margin-right:0px\; text-align:left">\n<div style="margin-left:0px\; margin-right:0px">\n<div style="margin-left:0px\; margin-right:0px">\n<div style="margin-left:0px\; margin-right:0px">\n<p style="margin-left:0px\; margin-right:0px"><span style="font-family:georgia\,palatino\,serif\; font-size:12pt">We are proud to present Chef Ken Frank\, Executive Chef/Owner of Napa Valley La Toque Restaurant &ndash\; Winner 2018 Michelin Star | 2018 Wine Spectator Grand Award</span></p>\n\n<p style="margin-left:0px\; margin-right:0px"><span style="font-family:georgia\,palatino\,serif\; font-size:12pt">Dine on a sumptuous meal and join us and your fellow kindred spirits for this evening of rustic elegance!<br />\n<br />\nTickets are limited.</span></p>\n\n<p style="margin-left:0px\; margin-right:0px"><span style="font-family:georgia\,palatino\,serif\; font-size:12pt">Single tickets are $150. A full table of 8 is $1\,200.</span></p>\n\n<p style="margin-left:0px\; margin-right:0px"><span style="font-family:georgia\,palatino\,serif\; font-size:12pt">In addition\, Business Sponsorships are available</span></p>\n\n<p style="margin-left:0px\; margin-right:0px"><span style="font-family:georgia\,palatino\,serif\; font-size:12pt"><strong>Please join us @ Joyful Ranch</strong></span></p>\n\n<p style="margin-left:0px\; margin-right:0px"><span style="font-family:georgia\,palatino\,serif\; font-size:12pt"><strong>Date:</strong> October 6th\, 2019\, Sunday</span></p>\n\n<p style="margin-left:0px\; margin-right:0px"><span style="font-family:georgia\,palatino\,serif\; font-size:12pt"><strong>Time:</strong> 4:00- 7:00 p.m.</span></p>\n\n<p style="margin-left:0px\; margin-right:0px"><span style="font-family:georgia\,palatino\,serif\; font-size:12pt"><strong>Location:</strong> Joyful Ranch | 8212 Pleasants Valley Rd. | Vacaville\, CA 95688</span></p>\n\n<p style="margin-left:0px\; margin-right:0px"><span style="font-family:georgia\,palatino\,serif\; font-size:12pt">Tickets may be purchase through Solano Land Trust only.</span></p>\n\n<p style="margin-left:0px\; margin-right:0px"><span style="color:rgb(51\, 102\, 255)\; font-family:georgia\,palatino\,serif\; font-size:12pt"><a href="https://interland3.donorperfect.net/weblink/weblink.aspx?name=E10039&amp\;id=31" rel="noopener" style="border-bottom-color: currentColor\; border-bottom-style: none\; border-bottom-width: 0px\; border-image-outset: 0\; border-image-repeat: stretch\; border-image-slice: 100%\; border-image-source: none\; border-image-width: 1\; border-left-color: currentColor\; border-left-style: none\; border-left-width: 0px\; border-right-color: currentColor\; border-right-style: none\; border-right-width: 0px\; border-top-color: currentColor\; border-top-style: none\; border-top-width: 0px\; color: rgb(51\, 102\, 255)\; cursor: pointer\; font-family: inherit\; font-size: 100%\; font-style: inherit\; font-weight: inherit\; margin-bottom: 0px\; margin-left: 0px\; margin-right: 0px\; margin-top: 0px\; outline-color: invert\; outline-style: none\; outline-width: 0px\; padding-bottom: 0px\; padding-left: 0px\; padding-right: 0px\; padding-top: 0px\; text-decoration: none\; transition-delay: 0s\; transition-duration: 0.3s\; transition-property: all\; transition-timing-function: ease\; vertical-align: baseline\;" target="_blank">Click here to purchase tickets.</a></span></p>\n\n<p style="margin-left:0px\; margin-right:0px"><span style="font-family:georgia\,palatino\,serif\; font-size:12pt">Phone: 707-432-0150</span></p>\n\n<p style="margin-left:0px\; margin-right:0px"><span style="font-family:georgia\,palatino\,serif\; font-size:12pt">Email: <span style="color:rgb(51\, 102\, 255)\; font-family:inherit\; font-size:100%">Michelle@solanolandtrust.org</span></span></p>\n</div>\n</div>\n</div>\n</div>\n
LOCATION:Location: Joyful Ranch | 8212 Pleasants Valley Rd. | Vacaville\, CA 95688 Tickets may be purchase through Solano Land Trust only.
UID:e.1602.7265
SEQUENCE:3
DTSTAMP:20260424T040819Z
URL:https://business.fairfieldsuisunchamber.com/events/details/solano-land-trust-presents-sunday-supper-a-farm-to-table-dinner-7265
END:VEVENT

END:VCALENDAR
