BEGIN:VCALENDAR
VERSION:2.0
PRODID:-//ChamberMaster//Event Calendar 2.0//EN
METHOD:PUBLISH
X-PUBLISHED-TTL:P3D
REFRESH-INTERVAL:P3D
CALSCALE:GREGORIAN
BEGIN:VEVENT
DTSTART:20200521T150000Z
DTEND:20200521T160000Z
X-MICROSOFT-CDO-ALLDAYEVENT:FALSE
SUMMARY:Solano's Economy: Where do we go from here?
DESCRIPTION:Join the FFSS Chamber of Commerce on Thursday\, May 21\, for an exciting conversation with Robert Eyler\, PhD\, President\, Economic Forensics and Analytics\, Professor\, Economics\, Sonoma State University If you missed his presentation with Solano EDC\, please visit: solanoedc.org for an insight into Solano County's economy.\n\n\n\nPlease register at:\n\nhttps://zoom.us/meeting/register\n\n\n\nYou can send questions ahead of time to:\n\nDebi Tavey at debi@fairfieldsuisunchamber.com
X-ALT-DESC;FMTTYPE=text/html:Join the FFSS Chamber of Commerce&nbsp\;on <strong>Thursday\, May 21</strong>\, for an exciting&nbsp\;conversation with <strong>Robert Eyler</strong>\, PhD\,&nbsp\;President\, Economic Forensics and Analytics\,&nbsp\;Professor\, Economics\, Sonoma State University&nbsp\;If you missed his presentation with&nbsp\;Solano EDC\, please visit: <a href="https://solanoedc.org/news/may-11-solano-edc-webinar-on-covid19-and-impacts-to-local-government" target="_blank">solanoedc.org</a>&nbsp\;for an insight into Solano County&#39\;s&nbsp\;economy.<br />\n<br />\n<strong>Please register at</strong>:<br />\n<a href="https://zoom.us/meeting/register/tJMlcuutpzMqHN1ubSknPde4ZRp1DxrQZbG0" target="_blank">https://zoom.us/meeting/register</a><br />\n<br />\n<strong>You can send questions ahead of time to:</strong><br />\nDebi Tavey at <a href="mailto:debi@fairfieldsuisunchamber.com">debi@fairfieldsuisunchamber.com</a>
LOCATION:Virtual meeting will be via Zoom. More information to come.
UID:e.1602.7466
SEQUENCE:3
DTSTAMP:20260423T164940Z
URL:https://business.fairfieldsuisunchamber.com/events/details/solano-s-economy-where-do-we-go-from-here-7466
END:VEVENT

END:VCALENDAR
