BEGIN:VCALENDAR
VERSION:2.0
PRODID:-//ChamberMaster//Event Calendar 2.0//EN
METHOD:PUBLISH
X-PUBLISHED-TTL:P3D
REFRESH-INTERVAL:P3D
CALSCALE:GREGORIAN
BEGIN:VEVENT
DTSTART:20171207T193000Z
DTEND:20171207T210000Z
X-MICROSOFT-CDO-ALLDAYEVENT:FALSE
SUMMARY:Spirit of Solano Luncheon
DESCRIPTION:Hosted by WestAmerica Bank and the Solano EDC\, local businesses from Solano County are recognitzed as their prospective Chamber's Business of the Year.
X-ALT-DESC;FMTTYPE=text/html:Hosted by WestAmerica Bank and the Solano EDC\, local businesses from Solano County are recognitzed as their prospective Chamber&#39\;s Business of the Year.&nbsp\;
LOCATION:Hilton Garden Inn - Fairfield 2200 Gateway Blvd.\, Fairfield
UID:e.1602.3801
SEQUENCE:3
DTSTAMP:20260425T151532Z
URL:https://business.fairfieldsuisunchamber.com/events/details/spirit-of-solano-luncheon-3801
END:VEVENT

END:VCALENDAR
