BEGIN:VCALENDAR
VERSION:2.0
PRODID:-//ChamberMaster//Event Calendar 2.0//EN
METHOD:PUBLISH
X-PUBLISHED-TTL:P3D
REFRESH-INTERVAL:P3D
CALSCALE:GREGORIAN
BEGIN:VEVENT
DTSTART:20181208T220000Z
DTEND:20181209T010000Z
X-MICROSOFT-CDO-ALLDAYEVENT:FALSE
SUMMARY:Strange Brew invade Seven Artisans Winery
DESCRIPTION:Saturday\, December 8th \n\n \n\n2:00 - 5:00 PM\n\n \n\nSEVEN ARTISANS WINERY\n\nPresents:\n\n \n\nThe hot sounds of\n\nSTRANGE BREW\n\n \n\n$15 includes one glass of wine\n\n \n\nFood available from \n\nPaquitas Mexican Grill food truck\n\n \n\nJoin us for an afternoon of fantastic music\, \n\ndancing\, delicious food\, great people and fun!\n\n \n\n \n\nSeven Artisans Winery\n\n4341 Abernathy Road\n\nFairfield\, CA 94534\n\n \n\nCall Bob for reservations at: \n\n(707) 771-0911\n\nsevenartisanswinery@gmail.com\n\n \n\nNo outside alcohol permitted\n\n \n\nWe'll see you Inside\, warm and cozy
X-ALT-DESC;FMTTYPE=text/html:<div style="text-align: center\;">&nbsp\;<br />\n<strong><span style="font-size:large"><span style="font-family:elephant"><strong><span style="font-family:elephant\,serif"><span style="font-size:26.0pt">Saturday\, December <sup>8th</sup> </span></span></strong></span></span></strong><br />\n&nbsp\;<br />\n<strong><span style="font-size:large"><span style="font-family:elephant"><strong><span style="font-family:elephant\,serif"><span style="font-size:26.0pt">2:00 - 5:00 PM</span></span></strong></span></span></strong><br />\n&nbsp\;<br />\n<strong><span style="font-size:large"><span style="font-family:elephant"><strong><span style="font-family:elephant\,serif"><span style="font-size:28.0pt">SEVEN ARTISANS WINERY</span></span></strong></span></span></strong><br />\n<strong><span style="font-size:large"><span style="font-family:elephant"><strong><span style="font-family:elephant\,serif"><span style="font-size:18.0pt">Presents:</span></span></strong></span></span></strong><br />\n&nbsp\;<br />\n<strong><em><span style="font-size:large"><span style="font-family:elephant"><em><span style="font-family:elephant\,serif"><span style="font-size:22.0pt">The hot sounds of</span></span></em></span></span></em></strong><br />\n<strong><span style="font-size:large"><span style="font-family:elephant"><strong><span style="font-family:elephant\,serif"><span style="font-size:48.0pt">STRANGE BREW</span></span></strong></span></span></strong><br />\n&nbsp\;<br />\n<strong><em><span style="font-size:large"><span style="font-family:elephant"><em><span style="font-family:elephant\,serif"><span style="font-size:14.0pt">$15 includes one glass of wine</span></span></em></span></span></em></strong><br />\n&nbsp\;<br />\n<strong><em><span style="font-size:large"><span style="font-family:elephant"><em><span style="font-family:elephant\,serif"><span style="font-size:24.0pt">Food available from </span></span></em></span></span></em></strong><br />\n<strong><em><span style="font-size:large"><span style="font-family:elephant"><em><span style="font-family:elephant\,serif"><span style="font-size:24.0pt">Paquitas Mexican Grill food truck</span></span></em></span></span></em></strong><br />\n&nbsp\;<br />\n<strong><em><span style="font-size:large"><span style="font-family:elephant"><em><span style="font-family:elephant\,serif"><span style="font-size:14.0pt">Join us for an afternoon of fantastic music\, </span></span></em></span></span></em></strong><br />\n<strong><em><span style="font-size:large"><span style="font-family:elephant"><em><span style="font-family:elephant\,serif"><span style="font-size:14.0pt">dancing\, delicious food\, great people and fun!</span></span></em></span></span></em></strong><br />\n&nbsp\;<br />\n&nbsp\;<br />\n<strong><span style="font-size:large"><span style="font-family:elephant"><strong><span style="font-family:elephant\,serif"><span style="font-size:20.0pt">Seven Artisans Winery</span></span></strong></span></span></strong><br />\n<strong><span style="font-size:large"><span style="font-family:elephant"><strong><span style="font-family:elephant\,serif"><span style="font-size:20.0pt">4341 Abernathy Road</span></span></strong></span></span></strong><br />\n<strong><span style="font-size:large"><span style="font-family:elephant"><strong><span style="font-family:elephant\,serif"><span style="font-size:20.0pt">Fairfield\, CA 94534</span></span></strong></span></span></strong><br />\n&nbsp\;<br />\n<strong><span style="font-size:large"><span style="font-family:elephant"><strong><span style="font-family:elephant\,serif"><span style="font-size:20.0pt">Call Bob for reservations at: </span></span></strong></span></span></strong><br />\n<strong><span style="font-size:large"><span style="font-family:elephant"><strong><span style="font-family:elephant\,serif"><span style="font-size:20.0pt">(707) 771-0911</span></span></strong></span></span></strong><br />\n<span style="font-size:large"><span style="font-family:elephant"><span style="font-family:elephant\,serif"><span style="font-size:20.0pt"><a href="mailto:sevenartisanswinery@gmail.com"><strong><strong>sevenartisanswinery@gmail.com</strong></strong></a></span></span></span></span><br />\n&nbsp\;<br />\n<strong><span style="font-size:large"><span style="font-family:elephant"><strong><span style="font-family:elephant\,serif"><span style="font-size:20.0pt">No outside alcohol permitted</span></span></strong></span></span></strong><br />\n&nbsp\;<br />\n<strong><span style="font-size:large"><span style="font-family:elephant"><strong><span style="font-family:elephant\,serif"><span style="font-size:14.0pt">We&rsquo\;ll see you <em><em>Inside</em></em>\, warm and cozy</span></span></strong></span></span></strong><br />\n&nbsp\;<br />\n&nbsp\;<br />\n&nbsp\;<br />\n&nbsp\;<br />\n&nbsp\;<br />\n&nbsp\;<br />\n&nbsp\;<br />\n&nbsp\;<br />\n&nbsp\;<br />\n&nbsp\;<br />\n&nbsp\;<br />\n&nbsp\;</div>\n
LOCATION:Seven Artisans Winery 4341 Abernathy Road Fairfield
UID:e.1602.6733
SEQUENCE:3
DTSTAMP:20260424T194211Z
URL:https://business.fairfieldsuisunchamber.com/events/details/strange-brew-invade-seven-artisans-winery-6733
END:VEVENT

END:VCALENDAR
