BEGIN:VCALENDAR
VERSION:2.0
PRODID:-//ChamberMaster//Event Calendar 2.0//EN
METHOD:PUBLISH
X-PUBLISHED-TTL:P3D
REFRESH-INTERVAL:P3D
CALSCALE:GREGORIAN
BEGIN:VEVENT
DTSTART:20180830T140000Z
DTEND:20180831T040000Z
X-MICROSOFT-CDO-ALLDAYEVENT:FALSE
SUMMARY:"Strange Brew" Premier Performance at Seven Artisans Winery
DESCRIPTION:Strange Brew is a five piece power house that delivers a great live music experience with every show. Formed in 1997\, this band throws down a compelling combination of music genres. With a wide variety of syncopated funk\, Smooth R&B\, hook filled pop\, hard and heavy rock beats and stylized rhythmic hip hop\, they've dazzled party goers in the Northern California East Bay for the past 20 years. Their substance\, style and spirit keeps the crowd pumped and energetic from beginning to end. Contemporary or classic\, soft or heavy\, Strange Brew does it all and they will leave you wanting more!\n\n\n\n$15/person   includes Entertainment & one glass "First Flight" Wine\n\nReservations Recommended for Choice Seating \n\nCall/Text: (707)330-3806 or Online: www.sevenartisanswinery.com/events\n\nEmail: sevenartisanswinery@gmail.com\n\n*No outside alcoholic beverages* - 21+ to purchase alcohol!
X-ALT-DESC;FMTTYPE=text/html:<span style="font-size:14.0pt">Strange Brew is a five piece power house that delivers a great live music experience with every show. Formed in 1997\, this band throws down a compelling combination of music genres. With a wide variety of syncopated funk\, Smooth R&amp\;B\, hook filled pop\, hard and heavy rock beats and stylized rhythmic hip hop\, they&rsquo\;ve dazzled party goers in the Northern California East Bay for the past 20 years. Their substance\, style and spirit keeps the crowd pumped and energetic from beginning to end. Contemporary or classic\, soft or heavy\, Strange Brew does it all and they will leave you wanting more!</span><br />\n<br />\n<span style="font-size:14.0pt">$15/person &ndash\; includes Entertainment &amp\; one glass &ldquo\;First Flight&rdquo\; Wine</span><br />\n<span style="font-size:14.0pt">Reservations Recommended for Choice Seating </span><br />\n<span style="font-size:14.0pt">Call/Text: (707)330-3806 or Online: www.sevenartisanswinery.com/events</span><br />\n<span style="font-size:14.0pt">Email: sevenartisanswinery@gmail.com</span><br />\n<span style="font-size:14.0pt">*No outside alcoholic beverages* - 21+ to purchase alcohol!</span>
LOCATION:Seven Artisans Winery 4341 Abernathy Road Fairfield\, CA 94534 (707) 330-3806
UID:e.1602.6613
SEQUENCE:3
DTSTAMP:20260425T013725Z
URL:https://business.fairfieldsuisunchamber.com/events/details/strange-brew-premier-performance-at-seven-artisans-winery-6613
END:VEVENT

END:VCALENDAR
