BEGIN:VCALENDAR
VERSION:2.0
PRODID:-//ChamberMaster//Event Calendar 2.0//EN
METHOD:PUBLISH
X-PUBLISHED-TTL:P3D
REFRESH-INTERVAL:P3D
CALSCALE:GREGORIAN
BEGIN:VEVENT
DTSTART:20180822T160000Z
DTEND:20180822T193000Z
X-MICROSOFT-CDO-ALLDAYEVENT:FALSE
SUMMARY:SUCCESSFUL STARTUPS IN SOLANO: PART 1 & 2
DESCRIPTION:Part 1 - First Steps: Learn the pros and cons of starting your own business and how to position yourself as a successful entrepreneur. We will share invaluable resources to take a new business through the nuts and bolts of starting your business including licenses and permits.\n\nPart 2   Business Planning: The second session will provide an overview of the business planning process and share a multitude of key information sources for developing your business plan.\n\nYou will also learn how to take advantage of the Small Business Development Center's free training and advising services for your new business\, and more!
X-ALT-DESC;FMTTYPE=text/html:<p><strong>Part 1</strong>&nbsp\;- First Steps: Learn the pros and cons of starting your own business and how to position yourself as a successful entrepreneur. We will share invaluable resources to take a new business through the nuts and bolts of starting your business including licenses and permits.</p>\n\n<p><strong>Part 2</strong>&nbsp\;&ndash\; Business Planning:&nbsp\;The second session will provide an overview of the business planning process and share a multitude of key information sources for developing your business plan.</p>\n\n<p>You will also learn how to take advantage of the Small Business Development Center&#39\;s free training and advising services for your new business\, and more!</p>\n
LOCATION:Fairfield-Suisun Chamber of Commerce 1111 Webster Street Fairfield
UID:e.1602.6603
SEQUENCE:3
DTSTAMP:20260425T013429Z
URL:https://business.fairfieldsuisunchamber.com/events/details/successful-startups-in-solano-part-1-2-6603
END:VEVENT

END:VCALENDAR
