BEGIN:VCALENDAR
VERSION:2.0
PRODID:-//ChamberMaster//Event Calendar 2.0//EN
METHOD:PUBLISH
X-PUBLISHED-TTL:P3D
REFRESH-INTERVAL:P3D
CALSCALE:GREGORIAN
BEGIN:VEVENT
DTSTART:20171107T020000Z
DTEND:20171107T040000Z
X-MICROSOFT-CDO-ALLDAYEVENT:FALSE
SUMMARY:Successful Startups in Solano Part 1 Workshop
DESCRIPTION:Learn the pros and cons of starting your own business and how to position yourself as a successful entrepreneur. We will share invaluable resources to take a new business through the nuts and bolts of starting your business including licenses and permits.
X-ALT-DESC;FMTTYPE=text/html:Learn the pros and cons of starting your own business and how to position yourself as a successful entrepreneur. We will share invaluable resources to take a new business through the nuts and bolts of starting your business including licenses and permits.
LOCATION:Fairfield Civic Center Library 1150 Kentucky Street Fairfield
UID:e.1602.3808
SEQUENCE:3
DTSTAMP:20260425T164015Z
URL:https://business.fairfieldsuisunchamber.com/events/details/successful-startups-in-solano-part-1-workshop-3808
END:VEVENT

END:VCALENDAR
