BEGIN:VCALENDAR
VERSION:2.0
PRODID:-//ChamberMaster//Event Calendar 2.0//EN
METHOD:PUBLISH
X-PUBLISHED-TTL:P3D
REFRESH-INTERVAL:P3D
CALSCALE:GREGORIAN
BEGIN:VEVENT
DTSTART:20171108T020000Z
DTEND:20171108T040000Z
X-MICROSOFT-CDO-ALLDAYEVENT:FALSE
SUMMARY:Successful Startups in Solano Part 2 Workshop
DESCRIPTION:The second session will provide an overview of the business planning process and share a multitude of key information sources for developing your business plan. You will also learn how to take advantage of the Small Business Development Center's free training and advising services for your new business\, and more!
X-ALT-DESC;FMTTYPE=text/html:The second session will provide an overview of the business planning process and share a multitude of key information sources for developing your business plan. You will also learn how to take advantage of the Small Business Development Center&#39\;s free training and advising services for your new business\, and more!
LOCATION:Faifield Civic Center Library 1150 Kentucky Street Fairfield
UID:e.1602.3809
SEQUENCE:3
DTSTAMP:20260425T163817Z
URL:https://business.fairfieldsuisunchamber.com/events/details/successful-startups-in-solano-part-2-workshop-3809
END:VEVENT

END:VCALENDAR
