BEGIN:VCALENDAR
VERSION:2.0
PRODID:-//ChamberMaster//Event Calendar 2.0//EN
METHOD:PUBLISH
X-PUBLISHED-TTL:P3D
REFRESH-INTERVAL:P3D
CALSCALE:GREGORIAN
BEGIN:VEVENT
DTSTART:20210717T170000Z
DTEND:20210717T183000Z
X-MICROSOFT-CDO-ALLDAYEVENT:FALSE
SUMMARY:Suisun City Flood Walk
DESCRIPTION:Sustainable Solano\, in partnership with the city of Suisun City\, is launching its first Flood Walks in Suisun City. These engaging walking tours will give local residents an opportunity to learn about future flood risks from rising sea levels and more severe storm events\, what can be done to protect homes and businesses\, and how to build a community's environmental resilience. The walks will also start the conversation around the development of Suisun City's Flood Resilience Action Plan. The 1.5-hour tours take place in Suisun City's future Resilient Neighborhood and give participants a chance to learn about the city's connection to the Suisun Marsh and the San Francisco Bay\, how stormwater is routed through the city\, and what areas are threatened by flooding as early as 2030. The tour also points out disparities and possible solutions\, such as considering where and how new development is built\, mitigation strategies such as curb cuts and rain gardens\, and the importance of community connection in addressing environmental hazards. Public Flood Walks will be on June 12\, June 26 and July 17. Learn more and register here: https://www.eventbrite.com/e/suisun-city-flood-walk-tickets-155992671279 Organizations interested in coordinating additional Flood Walks for their members should contact Program Manager Jonathan Erwin at jonathan@sustainablesolano.org
X-ALT-DESC;FMTTYPE=text/html:Sustainable Solano\, in partnership with the city of Suisun City\, is launching its first Flood Walks in Suisun City. These engaging walking tours will give local residents an opportunity to learn about future flood risks from rising sea levels and more severe storm events\, what can be done to protect homes and businesses\, and how to build a community&#39\;s environmental resilience. The walks will also start the conversation around the development of Suisun City&#39\;s Flood Resilience Action Plan. The 1.5-hour tours take place in Suisun City&rsquo\;s future Resilient Neighborhood and give participants a chance to learn about the city&rsquo\;s connection to the Suisun Marsh and the San Francisco Bay\, how stormwater is routed through the city\, and what areas are threatened by flooding as early as 2030. The tour also points out disparities and possible solutions\, such as considering where and how new development is built\, mitigation strategies such as curb cuts and rain gardens\, and the importance of community connection in addressing environmental hazards. Public Flood Walks will be on June 12\, June 26 and July 17. Learn more and register here: https://www.eventbrite.com/e/suisun-city-flood-walk-tickets-155992671279 Organizations interested in coordinating additional Flood Walks for their members should contact Program Manager Jonathan Erwin at jonathan@sustainablesolano.org
LOCATION:Suisun City
UID:e.1602.7499
SEQUENCE:3
DTSTAMP:20260422T180222Z
URL:https://business.fairfieldsuisunchamber.com/events/details/suisun-city-flood-walk-07-17-2021-7499
END:VEVENT

END:VCALENDAR
