BEGIN:VCALENDAR
VERSION:2.0
PRODID:-//ChamberMaster//Event Calendar 2.0//EN
METHOD:PUBLISH
X-PUBLISHED-TTL:P3D
REFRESH-INTERVAL:P3D
CALSCALE:GREGORIAN
BEGIN:VEVENT
DTSTART:20191019T000000Z
DTEND:20191019T010000Z
X-MICROSOFT-CDO-ALLDAYEVENT:FALSE
SUMMARY:Suisun Valley K-8 School Ribbon Cutting Ceremony and Building Tour
DESCRIPTION:You are welcome to attend the ribbon-cutting ceremony and building tour for Suisun Valley K-8 School in Fairfield! Suisun Valley's new Library\, Innovation Lab\, and Administration building is opening. We would be grateful for your attendance at our celebration.\n\n \n\nWhen: Friday\, October 18\, 2019\, at 5:00 pm\n\nWhere: Suisun Valley K-8 School\, 4985 Lambert Road\, Fairfield\, CA 94534\n\n \n\nThe ceremony will take about 15 minutes\, followed by a time of touring the building. At 5:30 pm\, Suisun Valley's Harvest Festival will begin!
X-ALT-DESC;FMTTYPE=text/html:<div class="gmail_default" style="color: rgb(0\, 0\, 0)\; font-family: Arial\, Helvetica\, sans-serif\; font-size: small\;"><span style="font-size:16px\;">You are welcome to attend the ribbon-cutting&nbsp\;ceremony and building tour for&nbsp\;Suisun Valley K-8&nbsp\;School in Fairfield!&nbsp\;Suisun Valley&#39\;s new Library\, Innovation Lab\, and Administration building is opening. We would be grateful for your attendance at our celebration.</span></div>\n\n<div class="gmail_default" style="color: rgb(0\, 0\, 0)\; font-family: Arial\, Helvetica\, sans-serif\; font-size: small\;">&nbsp\;</div>\n\n<div class="gmail_default" style="color: rgb(0\, 0\, 0)\; font-family: Arial\, Helvetica\, sans-serif\; font-size: small\;"><span style="font-size:16px\;">When: Friday\, October 18\, 2019\, at 5:00 pm</span></div>\n\n<div class="gmail_default" style="color: rgb(0\, 0\, 0)\; font-family: Arial\, Helvetica\, sans-serif\; font-size: small\;"><span style="font-size:16px\;">Where:&nbsp\;Suisun Valley K-8 School\, 4985 Lambert Road\, Fairfield\, CA 94534</span></div>\n\n<div class="gmail_default" style="color: rgb(0\, 0\, 0)\; font-family: Arial\, Helvetica\, sans-serif\; font-size: small\;">&nbsp\;</div>\n\n<div class="gmail_default" style="color: rgb(0\, 0\, 0)\; font-family: Arial\, Helvetica\, sans-serif\; font-size: small\;"><span style="font-size:16px\;">The ceremony will take about 15 minutes\, followed by a time of touring the building. At 5:30 pm\,&nbsp\;Suisun Valley&#39\;s Harvest Festival will begin!</span></div>\n
LOCATION:Suisun Valley K-8 School 4985 Lambert Road Fairfield\, CA 94534
UID:e.1602.7345
SEQUENCE:3
DTSTAMP:20260424T041001Z
URL:https://business.fairfieldsuisunchamber.com/events/details/suisun-valley-k-8-school-ribbon-cutting-ceremony-and-building-tour-7345
END:VEVENT

END:VCALENDAR
