BEGIN:VCALENDAR
VERSION:2.0
PRODID:-//ChamberMaster//Event Calendar 2.0//EN
METHOD:PUBLISH
X-PUBLISHED-TTL:P3D
REFRESH-INTERVAL:P3D
CALSCALE:GREGORIAN
BEGIN:VEVENT
DTSTART:20221029T020000Z
DTEND:20221029T050000Z
X-MICROSOFT-CDO-ALLDAYEVENT:FALSE
SUMMARY:Terror on Texas Street Haunted House
DESCRIPTION:Horror has a new home this Halloween!\n\n \n\nsKreamZ Haunted Attractions\, voted one of the top five haunts in Northern California\, invites you to experience Terror on Texas Street this Halloween season. \n\n \n\nThey say that some things are best left buried. Come find out for yourself when you expience an all new 2022 haunted house with sKreamZ!\n\n \n\nTicket prices start at only $10 for students\, military\, and EMS. General tickets are $12 per person.  All participants will be required to sign a tour waiver and follow any Solano County COVID health guidelines in place at the time of our visit. Parental guidance is recommended for anyone ages 14 and under.   Parents are advised not to bring anyone ages 10 and under.  No refunds or exchanges will be possible. \n\n \n\nTours will start October 7\, 2022 and occur on Fridays and Saturdays in October from 7:00pm to 10:00pm. \n\n \n\nParticipants should be advised that your visit will feature enclosed spaces\, special effects lighting\, gore and horror effects that are designed to cause fright and nightmares. Tickets will be available at the door or at skreamz.net.  For more information please call 707-330-8757 or visit skreamz.net.  \n\n \n\nInterested in becoming part of Northern California's BEST sKream Team?  Volunteer corpses needed in the following areas: actor/actress\, customer service\, and security. Contact us at skreamzha@gmail.com or https://www.skreamz.net/skream-team to find out when the next casting call will be held. \n\n \n\nHalloween should be scary but preparing for your future should not be! This Halloween attraction from sKreamZ\, aims to scare up some funds for the Fairfield Police Activities League's (PAL) Career Cafe program.\n\n \n\nABOUT FAIRFIELD PAL\n\nPAL uses traditional recreational programming to create an environment that draws young people to support the development of the social and emotional skills required to promote a positive self-identity and become productive and engaged members of our community.  By offering teens programs they are interested in and choices\, it becomes possible to include pro social skill building and development utilizing youth development practices and techniques. \n\n \n\nFor more information about these PAL activities\, please call 707-330-8757 or visit the program's webpage at www.fairfield.ca.gov/pal follow us in real time by visiting the program's Facebook page at @Fairfieldpal1\, Twitter at @pal-fairfield\, Instagram at ff_pal_center and Tik Tok @fairfieldpalteencenter.
X-ALT-DESC;FMTTYPE=text/html:<strong><span style="font-family:calibri\,sans-serif"><span style="font-size:16.0pt">Horror has a new home this Halloween!</span></span></strong><br />\n&nbsp\;<br />\n<span style="font-family:calibri\,sans-serif">sKreamZ Haunted Attractions\, voted one of the top five haunts in Northern California\, invites you to experience </span><span style="font-family:beware of the zombies">Terror on Texas Street</span><span style="font-family:calibri\,sans-serif"> this Halloween season. </span><br />\n&nbsp\;<br />\n<span style="font-family:calibri\,sans-serif">They say that some things are best left buried. Come find out for yourself when you expience an all new 2022 haunted house with sKreamZ!</span><br />\n&nbsp\;<br />\n<span style="font-family:calibri\,sans-serif">Ticket prices start at only $10 for students\, military\, and EMS. General tickets are $12 per person.&nbsp\; All participants will be required to sign a tour waiver and follow any Solano County COVID health guidelines in place at the time of our visit. Parental guidance is recommended for anyone ages 14 and under.&nbsp\;&nbsp\; Parents are advised not to bring anyone ages 10 and under.&nbsp\; No refunds or exchanges will be possible. </span><br />\n&nbsp\;<br />\n<span style="font-family:calibri\,sans-serif">Tours will start October 7\, 2022 and occur on Fridays and Saturdays in October from 7:00pm to 10:00pm. </span><br />\n&nbsp\;<br />\n<span style="font-family:calibri\,sans-serif">Participants should be advised that your visit will feature enclosed spaces\, special effects lighting\, gore and horror effects that are designed to cause fright and nightmares. Tickets will be available at the door or at skreamz.net.&nbsp\; </span><span style="font-family:calibri\,sans-serif">For more information please call 707-330-8757 or visit skreamz.net</span><cite><span style="font-family:calibri\,sans-serif">.&nbsp\; </span></cite><br />\n&nbsp\;<br />\n<strong><span style="color:#191919"><span style="font-family:calibri\,sans-serif">Interested in becoming part of Northern California&rsquo\;s BEST sKream Team?&nbsp\; Volunteer corpses needed in the following areas: actor/actress\, customer service\, and security. Contact us at </span></span></strong><a href="mailto:skreamzha@gmail.com"><strong><span style="font-family:calibri\,sans-serif">skreamzha@gmail.com</span></strong></a><strong><span style="color:#191919"><span style="font-family:calibri\,sans-serif"> or </span></span></strong><a href="https://www.skreamz.net/skream-team"><strong><span style="font-family:calibri\,sans-serif">https://www.skreamz.net/skream-team</span></strong></a><strong><span style="color:#191919"><span style="font-family:calibri\,sans-serif"> to find out when the next casting call will be held. </span></span></strong><br />\n&nbsp\;<br />\n<span style="font-family:calibri\,sans-serif">Halloween should be scary but preparing for your future should not be! This Halloween attraction from sKreamZ\, aims to scare up some funds for the Fairfield Police Activities League&rsquo\;s (PAL) Career Cafe program.</span><br />\n&nbsp\;<br />\n<strong><span style="color:black"><span style="font-size:12.0pt">ABOUT FAIRFIELD PAL</span></span></strong><br />\n<span style="color:black"><span style="font-size:12.0pt">PAL uses traditional recreational programming to create an environment that draws young people to support the development of the social and emotional skills required to promote a positive self-identity and become productive and engaged members of our community.&nbsp\; By offering teens programs they are interested in and choices\, it becomes possible to include pro social skill building and development utilizing youth development practices and techniques. </span></span><br />\n&nbsp\;<br />\n<span style="color:black"><span style="font-size:12.0pt">For more information about these PAL activities\, please call 707-330-8757 or visit the program&rsquo\;s webpage at </span></span><a href="http://www.fairfield.ca.gov/pal" target="_blank"><span style="color:#0066CC"><span style="font-size:12.0pt">www.fairfield.ca.gov/pal</span></span></a> <span style="color:black"><span style="font-size:12.0pt">follow us in real time by visiting the program&rsquo\;s Facebook page at @Fairfieldpal1\, Twitter at @pal-fairfield\, Instagram at ff_pal_center and Tik Tok @fairfieldpalteencenter. </span></span>
LOCATION:2250 North Texas Street\, Fairfield CA 94533
UID:e.1602.7799
SEQUENCE:3
DTSTAMP:20260421T153456Z
URL:https://business.fairfieldsuisunchamber.com/events/details/terror-on-texas-street-haunted-house-10-28-2022-7799
END:VEVENT

END:VCALENDAR
