BEGIN:VCALENDAR
VERSION:2.0
PRODID:-//ChamberMaster//Event Calendar 2.0//EN
METHOD:PUBLISH
X-PUBLISHED-TTL:P3D
REFRESH-INTERVAL:P3D
CALSCALE:GREGORIAN
BEGIN:VEVENT
DTSTART:20171202T220000Z
DTEND:20171203T010000Z
X-MICROSOFT-CDO-ALLDAYEVENT:FALSE
SUMMARY:The Black Rock Project performs at Seven Artisans Winery
DESCRIPTION:The BlackRock Project has play at various venues in Solano County including\, Suisun Waterfront\, Fairfield Performing Arts Theater\, Pittsburg Seafood Festival\, Winter Hawk\, Wine Styles\, Cheers\, Huey's\, Moose Lodge\, Vacaville Town Square\, Budweiser Tasting Room\, Legends at Paradise Valley\, GV Cellars\, Seven Artisans\, Wounded Warrior\, Vino Godfather with many more to follow.\n\n?Band Members\n\nDarrell Echols Sr-Band Leader\, Drums\, Lead and Background Vocals\n\nVeries Echols Jr-Guitars\, Background Vocals\n\nNick Eble-Bass Guitar\, Vocals\n\nMark Laybourne-Guitar\, Lead and background vocals\n\nTim Osterhout-Lead Vocals\, percussion\n\n \n\n$10/person   includes one glass "First Flight" Wine\n\nReservations Recommended for Choice Seating\n\n Call/Text: (707)330-3806 or www.sevenartisanswinery.com\n\nEmail: sevenartisanswinery@gmail.com\n\n*No outside alcoholic beverages* - 21+ to purchase alcohol!\n\nIf inclement weather\, this event will be held inside the winery!!
X-ALT-DESC;FMTTYPE=text/html:The BlackRock Project has play at various venues in Solano County including\, Suisun Waterfront\, Fairfield Performing Arts Theater\, Pittsburg Seafood Festival\, Winter Hawk\, Wine Styles\, Cheers\, Huey&#39\;s\, Moose Lodge\, Vacaville Town Square\, Budweiser Tasting Room\, Legends at Paradise Valley\, GV Cellars\, Seven Artisans\, Wounded Warrior\, Vino Godfather with many more to follow.<br />\n?<strong><u>Band Members</u></strong><br />\nDarrell Echols Sr-Band Leader\, Drums\, Lead and Background Vocals<br />\nVeries Echols Jr-Guitars\, Background Vocals<br />\nNick Eble-Bass Guitar\, Vocals<br />\nMark Laybourne-Guitar\, Lead and background vocals<br />\nTim Osterhout-Lead Vocals\, percussion<br />\n&nbsp\;<br />\n$10/person &ndash\; includes one glass &ldquo\;First Flight&rdquo\; Wine<br />\nReservations Recommended for Choice Seating<br />\n&nbsp\;Call/Text: (707)330-3806 or www.sevenartisanswinery.com<br />\nEmail: sevenartisanswinery@gmail.com<br />\n*No outside alcoholic beverages* - 21+ to purchase alcohol!<br />\nIf inclement weather\, this event will be held inside the winery!!
LOCATION:Seven Artisans Winery 4341 Abernathy Road Fairfield\, CA
UID:e.1602.3817
SEQUENCE:3
DTSTAMP:20260425T150601Z
URL:https://business.fairfieldsuisunchamber.com/events/details/the-black-rock-project-performs-at-seven-artisans-winery-3817
END:VEVENT

END:VCALENDAR
