BEGIN:VCALENDAR
VERSION:2.0
PRODID:-//ChamberMaster//Event Calendar 2.0//EN
METHOD:PUBLISH
X-PUBLISHED-TTL:P3D
REFRESH-INTERVAL:P3D
CALSCALE:GREGORIAN
BEGIN:VEVENT
DTSTART:20181222T220000Z
DTEND:20181223T010000Z
X-MICROSOFT-CDO-ALLDAYEVENT:FALSE
SUMMARY:The Earley Riser Band play Seven Artisans Winery
DESCRIPTION:Saturday\, December 22nd\n\n \n\n2:00   5:00 PM\n\n \n\nSEVEN ARTISANS WINERY\n\n \n\nPresents \n\nThe Sweet & Funky sounds of:\n\n \n\nTHE EARLEY RISER\n\nBAND\n\n \n\n$15 .00\n\n \n\nIncludes a glass of wine included\n\n                    \n\n \n\nJoin us for fantastic music\, dancing\, great people and fun!\n\n \n\n \n\nSeven Artisans Winery\n\n4341 Abernathy Road\n\nFairfield\, CA 94534\n\n \n\nCall: (707) 771-0911\n\neckerbob@mindspring.com\n\n \n\nNo outside alcohol permitted\n\n \n\nWe'll see you INSIDE\, WARM & TOASTY
X-ALT-DESC;FMTTYPE=text/html:<div style="text-align: center\;"><strong><span style="font-size:large"><span style="font-family:algerian"><strong><span style="font-family:algerian"><span style="font-size:26.0pt">Saturday\, December 22<sup>nd</sup></span></span></strong></span></span></strong><br />\n&nbsp\;<br />\n<strong><span style="font-size:large"><span style="font-family:algerian"><strong><span style="font-family:algerian"><span style="font-size:26.0pt">2:00 &ndash\; 5:00 PM</span></span></strong></span></span></strong><br />\n&nbsp\;<br />\n<strong><span style="font-size:large"><span style="font-family:algerian"><strong><span style="font-family:algerian"><span style="font-size:28.0pt">SEVEN ARTISANS WINERY</span></span></strong></span></span></strong><br />\n&nbsp\;<br />\n<strong><span style="font-size:large"><span style="font-family:algerian"><strong><span style="font-family:algerian"><span style="font-size:18.0pt">Presents </span></span></strong></span></span></strong><br />\n<strong><span style="font-size:large"><span style="font-family:algerian"><strong><span style="font-family:algerian"><span style="font-size:18.0pt">The Sweet &amp\; Funky sounds of:</span></span></strong></span></span></strong><br />\n&nbsp\;<br />\n<strong><em><span style="font-size:large"><span style="font-family:algerian"><em><span style="font-family:algerian"><span style="font-size:48.0pt">THE EARLEY RISER</span></span></em></span></span></em></strong><br />\n<strong><em><span style="font-size:large"><span style="font-family:algerian"><em><span style="font-family:algerian"><span style="font-size:48.0pt">BAND</span></span></em></span></span></em></strong><br />\n&nbsp\;<br />\n<strong><em><span style="font-size:large"><span style="font-family:algerian"><em><span style="font-family:algerian"><span style="font-size:22.0pt">$15 .00</span></span></em></span></span></em></strong><br />\n&nbsp\;<br />\n<strong><em><span style="font-size:large"><span style="font-family:algerian"><em><span style="font-family:algerian"><span style="font-size:22.0pt">Includes a glass of wine included</span></span></em></span></span></em></strong><br />\n&nbsp\;&nbsp\;&nbsp\;&nbsp\;&nbsp\;&nbsp\;&nbsp\;&nbsp\;&nbsp\;&nbsp\;&nbsp\;&nbsp\;&nbsp\;&nbsp\;&nbsp\;&nbsp\;&nbsp\;&nbsp\;&nbsp\;&nbsp\;<br />\n&nbsp\;<br />\n<strong><em><span style="font-size:large"><span style="font-family:algerian"><em><span style="font-family:algerian"><span style="font-size:14.0pt">Join us for fantastic music\, dancing\, great people and fun!</span></span></em></span></span></em></strong><br />\n&nbsp\;<br />\n&nbsp\;<br />\n<strong><span style="font-size:large"><span style="font-family:algerian"><strong><span style="font-family:algerian"><span style="font-size:20.0pt">Seven Artisans Winery</span></span></strong></span></span></strong><br />\n<strong><span style="font-size:large"><span style="font-family:algerian"><strong><span style="font-family:algerian"><span style="font-size:20.0pt">4341 Abernathy Road</span></span></strong></span></span></strong><br />\n<strong><span style="font-size:large"><span style="font-family:algerian"><strong><span style="font-family:algerian"><span style="font-size:20.0pt">Fairfield\, CA 94534</span></span></strong></span></span></strong><br />\n&nbsp\;<br />\n<strong><span style="font-size:large"><span style="font-family:algerian"><strong><span style="font-family:algerian"><span style="font-size:20.0pt">Call: (707) 771-0911</span></span></strong></span></span></strong><br />\n<span style="font-size:large"><span style="font-family:algerian"><span style="font-family:algerian"><span style="font-size:20.0pt"><a href="mailto:sevenartisanswinery@gmail.com"><strong><strong>eckerbob@mindspring.com</strong></strong></a></span></span></span></span><br />\n&nbsp\;<br />\n<strong><span style="font-size:large"><span style="font-family:algerian"><strong><span style="font-family:algerian"><span style="font-size:20.0pt">No outside alcohol permitted</span></span></strong></span></span></strong><br />\n&nbsp\;<br />\n<strong><span style="font-size:large"><span style="font-family:algerian"><strong><span style="font-family:algerian"><span style="font-size:14.0pt">We&rsquo\;ll see you INSIDE\, WARM &amp\; TOASTY</span></span></strong></span></span></strong><br />\n&nbsp\;<br />\n&nbsp\;<br />\n&nbsp\;</div>\n
LOCATION:Seven Artisans Winery 4341 Abernathy Road Fairfield\, CA 94534
UID:e.1602.6740
SEQUENCE:3
DTSTAMP:20260424T195550Z
URL:https://business.fairfieldsuisunchamber.com/events/details/the-earley-riser-band-play-seven-artisans-winery-6740
END:VEVENT

END:VCALENDAR
