BEGIN:VCALENDAR
VERSION:2.0
PRODID:-//ChamberMaster//Event Calendar 2.0//EN
METHOD:PUBLISH
X-PUBLISHED-TTL:P3D
REFRESH-INTERVAL:P3D
CALSCALE:GREGORIAN
BEGIN:VEVENT
DTSTART:20180728T210000Z
DTEND:20180729T000000Z
X-MICROSOFT-CDO-ALLDAYEVENT:FALSE
SUMMARY:"The Earley Riser" Rhythm & Blues Band performing at Seven Artisans Winery
DESCRIPTION:Band Members\n\nJames Earley  - Band Leader\n\nJohnny Ramos   guitar\, Keyboard & Vocals\n\nDanielle Wainsley   Drums\n\nMiss Camille Cotton   Vocalist\n\n \n\nBIO\n\n	James Earley is a multi-platinum producer/songwriter from Oakland\, CA.  He enjoys stepping out of the studio to perform live music with some of the SF Bay Area many accomplished artists and musicians. He has worked with music industry icons including David Bowie\, Mc Hammer\, Mark 'Marky Mark "Wahlberg\, En Vogue\, and others.\n	Johnny Ramos is an entertainer\, guitarist and keyboard artist who has been in the music industry for over 30 years. He has worked with various artists including En Vogue\, Martha Reeves\, Ike Turner\, Jr.\, and Lewis McCall of Confunkshun to name a few.\n	Miss Camille Cotton is a passionate dynamic vocalist who brings from her soul a performance you will never forget!\n	Danielle Wiansley is a pocket drummer with "Spice and Sass". She rounds out the Early Riser Band's true Rhythm and Blues Sound!\n\n \n\n$15/person   includes Entertainment & one glass "First Flight" Wine\n\nReservations Recommended for Choice Seating\n\nCall/Text: (707)330-3806 or Online: www.sevenartisanswinery.com/events\n\nEmail: sevenartisanswinery@gmail.com\n\n*No outside alcoholic beverages* - 21+ to purchase alcohol!
X-ALT-DESC;FMTTYPE=text/html:<strong><u>Band Members</u></strong><br />\nJames Earley&nbsp\; - Band Leader<br />\nJohnny Ramos &ndash\; guitar\, Keyboard &amp\; Vocals<br />\nDanielle Wainsley &ndash\; Drums<br />\nMiss Camille Cotton &ndash\; Vocalist<br />\n&nbsp\;<br />\n<strong>BIO</strong>\n<ul>\n	<li>James Earley is a multi-platinum producer/songwriter from Oakland\, CA.&nbsp\; He enjoys stepping out of the studio to perform live music with some of the SF Bay Area many accomplished artists and musicians. He has worked with music industry icons including David Bowie\, Mc Hammer\, Mark &lsquo\;Marky Mark &ldquo\;Wahlberg\, En Vogue\, and others.</li>\n	<li>Johnny Ramos is an entertainer\, guitarist and keyboard artist who has been in the music industry for over 30 years. He has worked with various artists including En Vogue\, Martha Reeves\, Ike Turner\, Jr.\, and Lewis McCall of Confunkshun to name a few.</li>\n	<li>Miss Camille Cotton is a passionate dynamic vocalist who brings from her soul a performance you will never forget!</li>\n	<li>Danielle Wiansley is a pocket drummer with &ldquo\;Spice and Sass&rdquo\;. She rounds out the Early Riser Band&rsquo\;s true Rhythm and Blues Sound!</li>\n</ul>\n&nbsp\;<br />\n$15/person &ndash\; includes Entertainment &amp\; one glass &ldquo\;First Flight&rdquo\; Wine<br />\nReservations Recommended for Choice Seating<br />\nCall/Text: (707)330-3806 or Online: www.sevenartisanswinery.com/events<br />\nEmail: sevenartisanswinery@gmail.com<br />\n*No outside alcoholic beverages* - 21+ to purchase alcohol!
LOCATION:Seven Artisans Winery 4341 Abernathy Road Farfield\, CA 94534
UID:e.1602.6601
SEQUENCE:3
DTSTAMP:20260425T032553Z
URL:https://business.fairfieldsuisunchamber.com/events/details/the-earley-riser-rhythm-blues-band-performing-at-seven-artisans-winery-6601
END:VEVENT

END:VCALENDAR
