BEGIN:VCALENDAR
VERSION:2.0
PRODID:-//ChamberMaster//Event Calendar 2.0//EN
METHOD:PUBLISH
X-PUBLISHED-TTL:P3D
REFRESH-INTERVAL:P3D
CALSCALE:GREGORIAN
BEGIN:VEVENT
DTSTART:20181013T020000Z
DTEND:20181013T050000Z
X-MICROSOFT-CDO-ALLDAYEVENT:FALSE
SUMMARY:"The Fabulous Cruise Tones" an Evening Gala - 10/12\, 7-10 PM
DESCRIPTION:The CruiseTones are a versatile\, talented group of performers that can lay back & groove things early\, then kick it up when it's time to get the party rolling. Made up of some the Bay Area's best musicians\, this group is comfortable playing many musical styles and are indeed\, the Fabulous CruiseTones.\n\n\n\nMembers of The Fabulous CruiseTones have toured and shared the concert stage with Huey Lewis & The News\, David Crosby\, The Tubes\, The Doobie Brothers\, War\, Muddy Waters\, Kansas\, Bo Diddley\, Lou Rawls\, Michael McDonald\, Steely Dan\, Genesis\, Roxy Music\, Narada\,  Michael Walden\, Journey and Night Ranger just to name a few.\n\n\n\nCheck The Out!\n\n\n\n$15/person   includes Entertainment & one glass "First Flight" Wine\n\nReservations Recommended for Choice Seating\n\nCall/Text: (707)330-3806 or Online: www.sevenartisanswinery.com/reservations\n\n*No outside alcoholic beverages* - 21+ to purchase alcohol!
X-ALT-DESC;FMTTYPE=text/html:The CruiseTones are a versatile\, talented group of performers that can lay back &amp\; groove things early\, then kick it up when it&rsquo\;s time to get the party rolling. Made up of some the Bay Area&rsquo\;s best musicians\, this group is comfortable playing many musical styles and are indeed\, the Fabulous CruiseTones.<br />\n<br />\nMembers of The Fabulous CruiseTones have toured and shared the concert stage with Huey Lewis &amp\; The News\, David Crosby\, The Tubes\, The Doobie Brothers\, War\, Muddy Waters\, Kansas\, Bo Diddley\, Lou Rawls\, Michael McDonald\, Steely Dan\, Genesis\, Roxy Music\, Narada\,&nbsp\; Michael Walden\, Journey and Night Ranger just to name a few.<br />\n<br />\nCheck The Out!<br />\n<br />\n$15/person &ndash\; includes Entertainment &amp\; one glass &ldquo\;First Flight&rdquo\; Wine<br />\nReservations Recommended for Choice Seating<br />\nCall/Text: (707)330-3806 or Online: www.sevenartisanswinery.com/reservations<br />\n*No outside alcoholic beverages* - 21+ to purchase alcohol!
LOCATION:Seven Artisans Winery 4341 Abernathy Road Fairfield\, CA
UID:e.1602.6689
SEQUENCE:3
DTSTAMP:20260424T225242Z
URL:https://business.fairfieldsuisunchamber.com/events/details/the-fabulous-cruise-tones-an-evening-gala-10-12-7-10-pm-6689
END:VEVENT

END:VCALENDAR
