BEGIN:VCALENDAR
VERSION:2.0
PRODID:-//ChamberMaster//Event Calendar 2.0//EN
METHOD:PUBLISH
X-PUBLISHED-TTL:P3D
REFRESH-INTERVAL:P3D
CALSCALE:GREGORIAN
BEGIN:VEVENT
DTSTART:20171007T210000Z
DTEND:20171008T000000Z
X-MICROSOFT-CDO-ALLDAYEVENT:FALSE
SUMMARY:The Fender Benders Rock'n the House at Seven Artisans Winery
DESCRIPTION:The Fender Benders are a Blues Trio from the East Bay who specialize in Jump Blues (Up Tempo Swing)\,\n\n Rock'n Blues (Think ZZ Top & George Thorogood) & Traditional Blues (Think Muddy Waters)
X-ALT-DESC;FMTTYPE=text/html:<span style="font-family:agency fb"><span style="font-size:24.0pt">The Fender Benders are a Blues Trio from the East Bay who specialize in Jump Blues (Up Tempo Swing)\,</span></span><br />\n<span style="font-family:agency fb"><span style="font-size:24.0pt">&nbsp\;Rock&#39\;n Blues (Think ZZ Top &amp\; George Thorogood) &amp\; Traditional Blues (Think Muddy Waters)</span></span>
LOCATION:Seven Artisans Winery 4341 Abernathy Road\, Fairfield\, CA *No outside alcoholic beverages\, please*
UID:e.1602.3672
SEQUENCE:3
DTSTAMP:20260425T184950Z
URL:https://business.fairfieldsuisunchamber.com/events/details/the-fender-benders-rock-n-the-house-at-seven-artisans-winery-3672
END:VEVENT

END:VCALENDAR
