BEGIN:VCALENDAR
VERSION:2.0
PRODID:-//ChamberMaster//Event Calendar 2.0//EN
METHOD:PUBLISH
X-PUBLISHED-TTL:P3D
REFRESH-INTERVAL:P3D
CALSCALE:GREGORIAN
BEGIN:VEVENT
DTSTART:20170729T210000Z
DTEND:20170730T000000Z
X-MICROSOFT-CDO-ALLDAYEVENT:FALSE
SUMMARY:The Great Rhythm Method 4 return to Seven Artisans Winery
DESCRIPTION:Saturday\, July 29th \n\n2:00 - 5:00 PM\n\n \n\nSeven Artisans Winery presents\n\n \n\nThe one\, the only\n\n \n\nThe Rhythm Method 4\n\n\n\n \n\n$10 cover includes a glass of First Flight wine\n\n \n\nFood available from the\n\n \n\nCosa Nostra \n\nPasta Truck\n\n \n\n \n\nNo outside alcohol\, please\n\n \n\nJoin us for great music\, dancing\, \n\nwine\, food and lots of fun \n\n \n\nat\n\n \n\nSeven Artisans Winery\n\n4341 Abernathy Road\n\nFairfield\, CA 94534\n\n707-330-3806\n\n \n\nWe'll see you on the "lawn"
X-ALT-DESC;FMTTYPE=text/html:<div style="text-align: center\;"><strong><em>Saturday\,&nbsp\;July 29th </em></strong></div>\n\n<div style="text-align: center\;"><em><strong>2:00 - 5:00 PM</strong></em></div>\n\n<div style="text-align: center\;">&nbsp\;</div>\n\n<div style="text-align: center\;"><strong>Seven Artisans Winery presents</strong></div>\n\n<div style="text-align: center\;">&nbsp\;</div>\n\n<div style="text-align: center\;"><em><strong>The one\, the only</strong></em></div>\n\n<div style="text-align: center\;">&nbsp\;</div>\n\n<div style="text-align: center\;"><strong><em>The Rhythm Method 4</em></strong></div>\n\n<div style="text-align: center\;"><br />\n&nbsp\;</div>\n\n<div style="text-align: center\;"><strong>$10 cover includes a glass of First Flight wine</strong></div>\n\n<div style="text-align: center\;">&nbsp\;</div>\n\n<div style="text-align: center\;"><strong>Food available from the</strong></div>\n\n<div style="text-align: center\;">&nbsp\;</div>\n\n<div style="text-align: center\;"><strong>Cosa Nostra </strong></div>\n\n<div style="text-align: center\;"><strong>Pasta Truck</strong></div>\n\n<div style="text-align: center\;">&nbsp\;</div>\n\n<div style="text-align: center\;">&nbsp\;</div>\n\n<div style="text-align: center\;"><strong>No outside&nbsp\;alcohol\, please</strong></div>\n\n<div style="text-align: center\;">&nbsp\;</div>\n\n<div style="text-align: center\;"><strong><em>Join us for great music\, dancing\, </em></strong></div>\n\n<div style="text-align: center\;"><strong><em>wine\, food&nbsp\;and </em></strong><strong><em>lots of fun&nbsp\;</em></strong></div>\n\n<div style="text-align: center\;">&nbsp\;</div>\n\n<div style="text-align: center\;"><strong>at</strong></div>\n\n<div style="text-align: center\;">&nbsp\;</div>\n\n<div style="text-align: center\;"><strong>Seven Artisans Winery<br />\n4341 Abernathy Road<br />\nFairfield\, CA 94534</strong><br />\n707-330-3806</div>\n\n<div style="text-align: center\;">&nbsp\;</div>\n\n<div style="text-align: center\;"><em>We&#39\;ll see you on the &quot\;lawn&quot\;</em></div>\n
LOCATION:Seven Artisans Winery 4341 Abernathy Road Fairfield\, CA 94534 707-330-3806 We'll see you on the "lawn"
UID:e.1602.3580
SEQUENCE:3
DTSTAMP:20260425T233239Z
URL:https://business.fairfieldsuisunchamber.com/events/details/the-great-rhythm-method-4-return-to-seven-artisans-winery-3580
END:VEVENT

END:VCALENDAR
