BEGIN:VCALENDAR
VERSION:2.0
PRODID:-//ChamberMaster//Event Calendar 2.0//EN
METHOD:PUBLISH
X-PUBLISHED-TTL:P3D
REFRESH-INTERVAL:P3D
CALSCALE:GREGORIAN
BEGIN:VEVENT
DTSTART:20180804T210000Z
DTEND:20180805T000000Z
X-MICROSOFT-CDO-ALLDAYEVENT:FALSE
SUMMARY:The incomparable "Alvon Johnson" appearing at Seven Artisans Winery
DESCRIPTION:One of the most versatile Musicians\, Singers and Entertainers on the music scene today.  He travels the world singing and swinging Jazz standards with Big Bands. He also gallops the globe performing the songs that he sang while working with the Rock and Roll Hall of Fame group\, The Coasters.  When he travels to Russia he is referred to as the "King of the Blues" and the "Ambassador of the Blues". His love and respect for the American art form is shared by large and enthusiastic audiences the world over.\n\n\n\nAlvon Johnson has become a highly respected international Singer\, Musician\, and Entertainer. Weather he sings with Big Bands performing the great material of the American Song Book or the Low Down Blues\, Alvon Johnson is an artist whose act should not be missed. He tours constantly on the international level as well as nationally in such places as Russia\, Spain\, Africa\, Hungary\, Portugal\, Poland\, Malaysia\, China\, France\, Italy\, Japan\, Singapore\, New Zealand\, Europe\, Canada\, The Bahamas\, and Australia. This is a true showman\, and he gives his all in his performances. If you have not been to one of his shows\, you owe yourself this one pleasurable evening with a man that can change your life in just one night. You will be glad you did.\n\n\n\n$15/person   includes Entertainment & one glass "First Flight" Wine\n\nReservations Recommended for Choice Seating\n\nCall/Text: (707)330-3806 or Online: www.sevenartisanswinery.com\n\nEmail: sevenartisanswinery@gmail.com\n\n*No outside alcoholic beverages* - 21+ to purchase alcohol!
X-ALT-DESC;FMTTYPE=text/html:One of the most versatile Musicians\, Singers and Entertainers on the music scene today.&nbsp\; He travels the world singing and swinging Jazz standards with Big Bands. He also gallops the globe performing the songs that he sang while working with the Rock and Roll Hall of Fame group\, The Coasters.&nbsp\; When he travels to Russia he is referred to as the &ldquo\;King of the Blues&rdquo\; and the &ldquo\;Ambassador of the Blues&rdquo\;. His love and respect for the American art form is shared by large and enthusiastic audiences the world over.<br />\n<br />\nAlvon Johnson has become a highly respected international Singer\, Musician\, and Entertainer. Weather he sings with Big Bands performing the great material of the American Song Book or the Low Down Blues\, Alvon Johnson is an artist whose act should not be missed. He tours constantly on the international level as well as nationally in such places as Russia\, Spain\, Africa\, Hungary\, Portugal\, Poland\, Malaysia\, China\, France\, Italy\, Japan\, Singapore\, New Zealand\, Europe\, Canada\, The Bahamas\, and Australia. This is a true showman\, and he gives his all in his performances. If you have not been to one of his shows\, you owe yourself this one pleasurable evening with a man that can change your life in just one night. You will be glad you did.<br />\n<br />\n$15/person &ndash\; includes Entertainment &amp\; one glass &ldquo\;First Flight&rdquo\; Wine<br />\nReservations Recommended for Choice Seating<br />\nCall/Text: (707)330-3806 or Online: www.sevenartisanswinery.com<br />\nEmail: sevenartisanswinery@gmail.com<br />\n*No outside alcoholic beverages* - 21+ to purchase alcohol!
LOCATION:
UID:e.1602.6604
SEQUENCE:3
DTSTAMP:20260425T014038Z
URL:https://business.fairfieldsuisunchamber.com/events/details/the-incomparable-alvon-johnson-appearing-at-seven-artisans-winery-6604
END:VEVENT

END:VCALENDAR
