BEGIN:VCALENDAR
VERSION:2.0
PRODID:-//ChamberMaster//Event Calendar 2.0//EN
METHOD:PUBLISH
X-PUBLISHED-TTL:P3D
REFRESH-INTERVAL:P3D
CALSCALE:GREGORIAN
BEGIN:VEVENT
DTSTART:20171014T210000Z
DTEND:20171015T000000Z
X-MICROSOFT-CDO-ALLDAYEVENT:FALSE
SUMMARY:The New & Exciting "Rubicon" performing at Seven Artisans Winery
DESCRIPTION:"Join Us the afternoon of  October 14th as we introduce our two new band members playing for the first time at Seven Artisans Winery.\n\nWe embarked on this musical journey 5   years ago. Having played individually as either solo acts or in larger ensembles\, we were new to the local music scene as a four-piece group\, but have a combined music experience upwards of a century!  \n\nOur paths might have been different\, yet\, all roads have led to one quest\; providing a mastering of the music we make\, professionalism\, pure passion\, and a love for new experiences."   \n\nCameron Williams\, Band Leader
X-ALT-DESC;FMTTYPE=text/html:<span style="font-size:12px"><span style="font-size:14px"><em><span style="font-family:calibri">&ldquo\;</span></em><em><span style="font-family:calibri">Join Us the afternoon of&nbsp\; October </span></em><em><span style="font-family:calibri">14</span></em><em><span style="font-family:calibri">th</span></em><em><span style="font-family:calibri"> as we introduce our two new band members playing for the first time at Seven Artisans Winery.</span></em><br />\n<em><span style="font-family:calibri">We embarked on this musical journey 5 &frac12\; years ago. Having played individually as either solo acts or in larger ensembles\, we were new to the local music scene as a four-piece group\, but have a combined music experience upwards of a century!&nbsp\; </span></em><br />\n<em><span style="font-family:calibri">Our paths might have been different\, yet\, all roads have led to one quest\; providing a mastering of the music we make\, professionalism\, pure passion\, and a love for new experiences.&rdquo\;&nbsp\;&nbsp\; </span></em><br />\n<em><span style="font-family:calibri">Cameron Williams\, Band Leader&nbsp\; &nbsp\;</span></em></span></span><br />\n<br />\n&nbsp\;
LOCATION:Seven Artisans Winery 4341 Abernathy Road Fairfield\, CA 94534 (707) 330-3806
UID:e.1602.3805
SEQUENCE:3
DTSTAMP:20260425T183618Z
URL:https://business.fairfieldsuisunchamber.com/events/details/the-new-exciting-rubicon-performing-at-seven-artisans-winery-3805
END:VEVENT

END:VCALENDAR
