BEGIN:VCALENDAR
VERSION:2.0
PRODID:-//ChamberMaster//Event Calendar 2.0//EN
METHOD:PUBLISH
X-PUBLISHED-TTL:P3D
REFRESH-INTERVAL:P3D
CALSCALE:GREGORIAN
BEGIN:VEVENT
DTSTART:20180804T020000Z
DTEND:20180804T050000Z
X-MICROSOFT-CDO-ALLDAYEVENT:FALSE
SUMMARY:"The Original Rubicon Band Reunion" at Seven Artisans Winery
DESCRIPTION:Friday Evening\, August 3rd\, 7-10 PM\n\nDon't miss the reunion of one of the most beloved Solano County Bands.\n\nThe original band members will be together once again for this one-time only performance at the winery.\n\n \n\n$15/person   includes Entertainment & one glass "First Flight" Wine\n\nReservations Recommended for Choice Seating\n\nCall/Text: (707)330-3806 or Online: www.sevenartisanswinery.com/events\n\nEmail: sevenartisanswinery@gmail.com\n\n*No outside alcoholic beverages* - 21+ to purchase alcohol!
X-ALT-DESC;FMTTYPE=text/html:Friday Evening\, August 3<sup>rd</sup>\, 7-10 PM<br />\nDon&rsquo\;t miss the reunion of one of the most beloved Solano County Bands.<br />\nThe original band members will be together once again for this one-time only performance at the winery.<br />\n&nbsp\;<br />\n$15/person &ndash\; includes Entertainment &amp\; one glass &ldquo\;First Flight&rdquo\; Wine<br />\nReservations Recommended for Choice Seating<br />\nCall/Text: (707)330-3806 or Online: www.sevenartisanswinery.com/events<br />\nEmail: sevenartisanswinery@gmail.com<br />\n*No outside alcoholic beverages* - 21+ to purchase alcohol!
LOCATION:
UID:e.1602.6602
SEQUENCE:3
DTSTAMP:20260425T015206Z
URL:https://business.fairfieldsuisunchamber.com/events/details/the-original-rubicon-band-reunion-at-seven-artisans-winery-6602
END:VEVENT

END:VCALENDAR
