BEGIN:VCALENDAR
VERSION:2.0
PRODID:-//ChamberMaster//Event Calendar 2.0//EN
METHOD:PUBLISH
X-PUBLISHED-TTL:P3D
REFRESH-INTERVAL:P3D
CALSCALE:GREGORIAN
BEGIN:VEVENT
DTSTART:20180825T210000Z
DTEND:20180826T000000Z
X-MICROSOFT-CDO-ALLDAYEVENT:FALSE
SUMMARY:The Rhythm Method 4 performing at Seven Artisans Winery
DESCRIPTION:LIVE IN CONCERT - "THE RHYTHM METHOD 4"\n\nSATURDAY\, August 25th\, 2-5 PM!\n\nPicnics Welcome!\n\nFredrick's Catering Food Truck Service available at separate purchase.\n\nThe Rhythm Method 4 (TRM4) is composed of four professional musicians performing interesting and challenging music\; usually containing stylish vocals and elegant harmonies they enjoy and respect. The band is a fan of many different styles of song.  Their performance will take you on a journey through a wide range of musical genres.\n\nBAND MEMBERS \n\nChris Holmes - Keyboard and Vocals\n\nRob Lopez - Bass and Vocals\n\nKeith Vaughn - Drums and Percussion\n\nKe'Lee Marie Bordeaux   Vocals\n\n \n\nHello All!  Advanced reservations are highly recommended for this performance.  Cover: $15 per person. See you on the lawn! Click link to make a reservation:  https://www.sevenartisanswinery.com/reservations
X-ALT-DESC;FMTTYPE=text/html:LIVE IN CONCERT - &quot\;THE RHYTHM METHOD 4&quot\;<br />\nSATURDAY\, August 25<sup>th</sup>\, 2-5 PM!<br />\nPicnics Welcome!<br />\nFredrick&rsquo\;s Catering Food Truck Service available at separate purchase.<br />\nThe Rhythm Method 4 (TRM4) is composed of four professional musicians performing interesting and challenging music\; usually containing stylish vocals and elegant harmonies they enjoy and respect. The band is a fan of many different styles of song.&nbsp\; Their performance will take you on a journey through a wide range of musical genres.<br />\n<strong><u>BAND MEMBERS </u></strong><br />\nChris Holmes - Keyboard and Vocals<br />\nRob Lopez - Bass and Vocals<br />\nKeith Vaughn - Drums and Percussion<br />\nKe&rsquo\;Lee Marie Bordeaux &ndash\; Vocals<br />\n&nbsp\;<br />\nHello All!&nbsp\; Advanced reservations are highly recommended for this performance. &nbsp\;Cover: $15 per person. See you on the lawn! Click link to make a reservation:&nbsp\; <a href="https://www.sevenartisanswinery.com/reservations">https://www.sevenartisanswinery.com/reservations</a>
LOCATION:Seven Artisans Winery 4341 Abernathy Road Fairfield\, CA 94534 (707) 330-3806 http://www.sevenartisanswinery.com/events
UID:e.1602.6612
SEQUENCE:3
DTSTAMP:20260425T013950Z
URL:https://business.fairfieldsuisunchamber.com/events/details/the-rhythm-method-4-performing-at-seven-artisans-winery-08-25-2018-6612
END:VEVENT

END:VCALENDAR
