BEGIN:VCALENDAR
VERSION:2.0
PRODID:-//ChamberMaster//Event Calendar 2.0//EN
METHOD:PUBLISH
X-PUBLISHED-TTL:P3D
REFRESH-INTERVAL:P3D
CALSCALE:GREGORIAN
BEGIN:VEVENT
DTSTART:20190202T220000Z
DTEND:20190203T010000Z
X-MICROSOFT-CDO-ALLDAYEVENT:FALSE
SUMMARY:The Rhythm Method 4 play Seven Artisans Winery
DESCRIPTION:Saturday\, February 2nd\n\n            \n\n2:00   5:00 PM\n\n \n\nSEVEN ARTISANS WINERY\n\n \n\n \n\nPresents the incomparable sounds of:\n\n \n\nTHE RHYTHM\n\nMETHOD 4\n\n \n\n$15 .00\n\n \n\nIncludes a glass of wine \n\n \n\nHank & Hazel's Sausage cart onsite with delicious food\n\n                    \n\n \n\nJoin us for an afternoon of fantastic music\, \n\nfood\, dancing\, great people and fun!\n\n \n\n \n\nSeven Artisans Winery\n\n4341 Abernathy Road\n\nFairfield\, CA 94534\n\n \n\nCall: (707) 771-0911\n\neckerbob@mindspring.com\n\n \n\nNo outside alcohol permitted\n\n \n\nWe'll see you Saturday - inside
X-ALT-DESC;FMTTYPE=text/html:<div style="text-align: center\;"><strong><span style="font-size:large"><span style="font-family:eras bold itc"><strong><span style="font-family:eras bold itc\,sans-serif"><span style="font-size:26.0pt">Saturday\, February 2<sup>nd</sup></span></span></strong></span></span></strong><br />\n&nbsp\;&nbsp\;&nbsp\;&nbsp\;&nbsp\;&nbsp\;&nbsp\;&nbsp\;&nbsp\;&nbsp\;&nbsp\;&nbsp\;<br />\n<strong><span style="font-size:large"><span style="font-family:eras bold itc"><strong><span style="font-family:eras bold itc\,sans-serif"><span style="font-size:26.0pt">2:00 &ndash\; 5:00 PM</span></span></strong></span></span></strong><br />\n&nbsp\;<br />\n<strong><span style="font-size:large"><span style="font-family:eras bold itc"><strong><span style="font-family:eras bold itc\,sans-serif"><span style="font-size:28.0pt">SEVEN ARTISANS WINERY</span></span></strong></span></span></strong><br />\n&nbsp\;<br />\n&nbsp\;<br />\n<strong><span style="font-size:large"><span style="font-family:eras bold itc"><strong><span style="font-family:eras bold itc\,sans-serif"><span style="font-size:18.0pt">Presents the incomparable sounds of:</span></span></strong></span></span></strong><br />\n&nbsp\;<br />\n<strong><em><span style="font-size:large"><span style="font-family:eras bold itc"><em><span style="font-family:eras bold itc\,sans-serif"><span style="font-size:48.0pt">THE RHYTHM<br />\nMETHOD 4</span></span></em></span></span></em></strong><br />\n&nbsp\;<br />\n<strong><em><span style="font-size:large"><span style="font-family:eras bold itc"><em><span style="font-family:eras bold itc\,sans-serif"><span style="font-size:22.0pt">$15 .00</span></span></em></span></span></em></strong><br />\n&nbsp\;<br />\n<strong><em><span style="font-size:large"><span style="font-family:eras bold itc"><em><span style="font-family:eras bold itc\,sans-serif"><span style="font-size:22.0pt">Includes a glass of wine </span></span></em></span></span></em></strong><br />\n&nbsp\;<br />\n<strong><em><span style="font-size:large"><span style="font-family:eras bold itc"><em><span style="font-family:eras bold itc\,sans-serif"><span style="font-size:22.0pt">Hank &amp\; Hazel&rsquo\;s Sausage cart onsite with delicious food</span></span></em></span></span></em></strong><br />\n&nbsp\;&nbsp\;&nbsp\;&nbsp\;&nbsp\;&nbsp\;&nbsp\;&nbsp\;&nbsp\;&nbsp\;&nbsp\;&nbsp\;&nbsp\;&nbsp\;&nbsp\;&nbsp\;&nbsp\;&nbsp\;&nbsp\;&nbsp\;<br />\n&nbsp\;<br />\n<strong><em><span style="font-size:large"><span style="font-family:eras bold itc"><em><span style="font-family:eras bold itc\,sans-serif"><span style="font-size:14.0pt">Join us for an afternoon of fantastic music\, </span></span></em></span></span></em></strong><br />\n<strong><em><span style="font-size:large"><span style="font-family:eras bold itc"><em><span style="font-family:eras bold itc\,sans-serif"><span style="font-size:14.0pt">food\, dancing\, great people and fun!</span></span></em></span></span></em></strong><br />\n&nbsp\;<br />\n&nbsp\;<br />\n<strong><span style="font-size:large"><span style="font-family:eras bold itc"><strong><span style="font-family:eras bold itc\,sans-serif"><span style="font-size:20.0pt">Seven Artisans Winery</span></span></strong></span></span></strong><br />\n<strong><span style="font-size:large"><span style="font-family:eras bold itc"><strong><span style="font-family:eras bold itc\,sans-serif"><span style="font-size:20.0pt">4341 Abernathy Road</span></span></strong></span></span></strong><br />\n<strong><span style="font-size:large"><span style="font-family:eras bold itc"><strong><span style="font-family:eras bold itc\,sans-serif"><span style="font-size:20.0pt">Fairfield\, CA 94534</span></span></strong></span></span></strong><br />\n&nbsp\;<br />\n<strong><span style="font-size:large"><span style="font-family:eras bold itc"><strong><span style="font-family:eras bold itc\,sans-serif"><span style="font-size:20.0pt">Call: (707) 771-0911</span></span></strong></span></span></strong><br />\n<span style="font-size:large"><span style="font-family:eras bold itc"><span style="font-family:eras bold itc\,sans-serif"><span style="font-size:20.0pt"><a href="mailto:sevenartisanswinery@gmail.com"><strong><strong>eckerbob@mindspring.com</strong></strong></a></span></span></span></span><br />\n&nbsp\;<br />\n<strong><span style="font-size:large"><span style="font-family:eras bold itc"><strong><span style="font-family:eras bold itc\,sans-serif"><span style="font-size:20.0pt">No outside alcohol permitted</span></span></strong></span></span></strong><br />\n&nbsp\;<br />\n<strong><span style="font-size:large"><span style="font-family:eras bold itc"><strong><span style="font-family:eras bold itc\,sans-serif"><span style="font-size:14.0pt">We&rsquo\;ll see you Saturday - inside</span></span></strong></span></span></strong><br />\n&nbsp\;<br />\n&nbsp\;</div>\n
LOCATION:Seven Artisans Winery 4341 Abernathy Road Fairfield\, CA 94534
UID:e.1602.6987
SEQUENCE:3
DTSTAMP:20260424T160513Z
URL:https://business.fairfieldsuisunchamber.com/events/details/the-rhythm-method-4-play-seven-artisans-winery-6987
END:VEVENT

END:VCALENDAR
