BEGIN:VCALENDAR
VERSION:2.0
PRODID:-//ChamberMaster//Event Calendar 2.0//EN
METHOD:PUBLISH
X-PUBLISHED-TTL:P3D
REFRESH-INTERVAL:P3D
CALSCALE:GREGORIAN
BEGIN:VEVENT
DTSTART:20190418T003000Z
DTEND:20190418T030000Z
X-MICROSOFT-CDO-ALLDAYEVENT:FALSE
SUMMARY:Touro's Mosaic Celebration
DESCRIPTION:Touro University will host its Mosaic Celebration fundraiser recognizing and supporting the academic achievement of students who\, through their varied cultural experiences\, contribute to inclusive excellence at the university. Sponsorships are available. For more information call 707-638-5205.
X-ALT-DESC;FMTTYPE=text/html:Touro University will host its Mosaic Celebration fundraiser recognizing and supporting the academic achievement of students who\, through their varied cultural experiences\, contribute to inclusive excellence at the university. Sponsorships are available. For more information call 707-638-5205.
LOCATION:Farragut Inn\, 1750 Club Drive\, Mare Island. Vallejo\, CA 94592
UID:e.1602.7004
SEQUENCE:3
DTSTAMP:20260424T130146Z
URL:https://business.fairfieldsuisunchamber.com/events/details/touro-s-mosaic-celebration-04-17-2019-7004
END:VEVENT

END:VCALENDAR
