BEGIN:VCALENDAR
VERSION:2.0
PRODID:-//ChamberMaster//Event Calendar 2.0//EN
METHOD:PUBLISH
X-PUBLISHED-TTL:P3D
REFRESH-INTERVAL:P3D
CALSCALE:GREGORIAN
BEGIN:VEVENT
DTSTART:20200112T163000Z
DTEND:20200113T010000Z
X-MICROSOFT-CDO-ALLDAYEVENT:FALSE
SUMMARY:Touro University California 2nd Integrative Medicine Symposium
DESCRIPTION:On Sunday\, January 12\, 2020\, Touro University California will host its 2nd Integrative Medicine Symposium where experts from around the US in the fields of Western\, Naturopathic\, Ayurvedic\, Tibetan and Traditional Chinese Medicine will share evidence-based complementary and integrative approaches to healthcare. Integrative Medicine is a healing approach that considers the physical\, mental\, social\, spiritual and environmental influences on one's health. The day will include workshops\, seminars and networking opportunities with breakfast and lunch provided.\n\n \n\nAll are welcome\, but advance registration is required. For students and community members\, registration is only $30! For physicians and other healthcare providers interested in CME credits\, there is a $125 early bird registration fee and a $150 regular registration fee. Early bird registration ends December 20\, 2019. Register online at: tu.edu/imsymposium.
X-ALT-DESC;FMTTYPE=text/html:On Sunday\, January 12\, 2020\, Touro University California will host its 2<sup>nd</sup> Integrative Medicine Symposium where experts from around the US in the fields of Western\, Naturopathic\, Ayurvedic\, Tibetan and Traditional Chinese Medicine will share evidence-based complementary and integrative approaches to healthcare. Integrative Medicine is a healing approach that considers the physical\, mental\, social\, spiritual and environmental influences on one&rsquo\;s health. The day will include workshops\, seminars and networking opportunities with breakfast and lunch provided.<br />\n&nbsp\;<br />\nAll are welcome\, but advance registration is required. For students and community members\, registration is only $30! For physicians and other healthcare providers interested in CME credits\, there is a $125 early bird registration fee and a $150 regular registration fee. Early bird registration ends December 20\, 2019. Register online at: tu.edu/imsymposium.<br />\n&nbsp\;
LOCATION:Touro University California\, Lander Hall\, 105 Owen Drive\, Vallejo\, CA\, 94592
UID:e.1602.7392
SEQUENCE:3
DTSTAMP:20260423T233525Z
URL:https://business.fairfieldsuisunchamber.com/events/details/touro-university-california-2nd-integrative-medicine-symposium-7392
END:VEVENT

END:VCALENDAR
