BEGIN:VCALENDAR
VERSION:2.0
PRODID:-//ChamberMaster//Event Calendar 2.0//EN
METHOD:PUBLISH
X-PUBLISHED-TTL:P3D
REFRESH-INTERVAL:P3D
CALSCALE:GREGORIAN
BEGIN:VEVENT
DTSTART:20210514T160000Z
DTEND:20210514T170000Z
X-MICROSOFT-CDO-ALLDAYEVENT:FALSE
SUMMARY:Town Hall with Congressman John Garamendi
DESCRIPTION:Join us for a joint Business Issues virtual event with the Fairfield-Suisun Chambers of Commerce and Vacaville Chamber of Commerce.\n\nCongressman John Garamendi will discuss the unique challenges our community faces and gather input that is vital to ensuring current and future legislation is aligned with local community needs.\n\n\n\nJoin Zoom Meeting https://us02web.zoom.us/j/83539024547?pwd=VEhFa1NyN0dUbWFsclBpb05WbzliZz09\n\nMeeting ID: 835 3902 4547 Passcode: 700787\n\n\n\nOne tap mobile +16699006833\,\,83539024547#\,\,\,\,*700787# US (San Jose) +13462487799\,\,83539024547#\,\,\,\,*700787# US (Houston) Dial by your location +1 669 900 6833 US (San Jose) +1 346 248 7799 US (Houston) +1 253 215 8782 US (Tacoma) +1 312 626 6799 US (Chicago) +1 929 436 2866 US (New York) +1 301 715 8592 US (Washington DC) Meeting ID: 835 3902 4547 Passcode: 700787 Find your local number: https://us02web.zoom.us/u/kzIdoMutY
X-ALT-DESC;FMTTYPE=text/html:<div class="kvgmc6g5 cxmmr5t8 oygrvhab hcukyx3x c1et5uql" style="overflow-wrap: break-word\; margin: 0px\; font-family: system-ui\, -apple-system\, system-ui\, &quot\;.SFNSText-Regular&quot\;\, sans-serif\; color: rgb(5\, 5\, 5)\; font-size: 15px\;"><span style="font-family:arial\;">Join us for a joint Business Issues virtual event with the Fairfield-Suisun Chambers of Commerce and Vacaville Chamber of Commerce.</span></div>\n\n<div class="o9v6fnle cxmmr5t8 oygrvhab hcukyx3x c1et5uql" style="overflow-wrap: break-word\; margin: 0.5em 0px 0px\; font-family: system-ui\, -apple-system\, system-ui\, &quot\;.SFNSText-Regular&quot\;\, sans-serif\; color: rgb(5\, 5\, 5)\; font-size: 15px\;"><span style="font-family:arial\;">Congressman John Garamendi will discuss the unique challenges our community faces and gather input that is vital to ensuring current and future legislation is aligned with local community needs.</span><br />\n<br />\n<strong style="font-family: arial\; font-size: 14px\;">Join Zoom Meeting https://us02web.zoom.us/j/83539024547?pwd=VEhFa1NyN0dUbWFsclBpb05WbzliZz09<br />\nMeeting ID: 835 3902 4547 Passcode: 700787<br />\n<br />\nOne tap mobile +16699006833\,\,83539024547#\,\,\,\,*700787# US (San Jose) +13462487799\,\,83539024547#\,\,\,\,*700787# US (Houston) Dial by your location +1 669 900 6833 US (San Jose) +1 346 248 7799 US (Houston) +1 253 215 8782 US (Tacoma) +1 312 626 6799 US (Chicago) +1 929 436 2866 US (New York) +1 301 715 8592 US (Washington DC) Meeting ID: 835 3902 4547 Passcode: 700787 Find your local number: https://us02web.zoom.us/u/kzIdoMutY</strong></div>\n
LOCATION:Zoom
UID:e.1602.7496
SEQUENCE:3
DTSTAMP:20260422T210448Z
URL:https://business.fairfieldsuisunchamber.com/events/details/town-hall-with-congressman-john-garamendi-7496
END:VEVENT

END:VCALENDAR
