BEGIN:VCALENDAR
VERSION:2.0
PRODID:-//ChamberMaster//Event Calendar 2.0//EN
METHOD:PUBLISH
X-PUBLISHED-TTL:P3D
REFRESH-INTERVAL:P3D
CALSCALE:GREGORIAN
BEGIN:VEVENT
DTSTART:20190830T020000Z
DTEND:20190830T033000Z
X-MICROSOFT-CDO-ALLDAYEVENT:FALSE
SUMMARY:Travel Reception
DESCRIPTION:Come learn how you can have the freedom\, flexibility and opportunity to build financial independence now and for the future. The home-based business owner can design their business to work with their own or their family's needs and lifestyle\, not the other way around! You are in control - you are your own boss. You achieve your goals at your own pace\, reap the benefits and rewards of being a part of the $7 trillion worldwide travel industry.
X-ALT-DESC;FMTTYPE=text/html:Come learn how you can have the freedom\, flexibility and opportunity to build financial independence now and for the future. The home-based business owner can design their business to work with their own or their family&#39\;s needs and lifestyle\, not the other way around! You are in control - you are your own boss. You achieve your goals at your own pace\, reap the benefits and rewards of being a part of the $7 trillion worldwide travel industry.
LOCATION:3700 Lyon Road Fairfield Ca. 94534
UID:e.1602.7304
SEQUENCE:3
DTSTAMP:20260424T065554Z
URL:https://business.fairfieldsuisunchamber.com/events/details/travel-reception-7304
END:VEVENT

END:VCALENDAR
