BEGIN:VCALENDAR
VERSION:2.0
PRODID:-//ChamberMaster//Event Calendar 2.0//EN
METHOD:PUBLISH
X-PUBLISHED-TTL:P3D
REFRESH-INTERVAL:P3D
CALSCALE:GREGORIAN
BEGIN:VEVENT
DTSTART:20190513T153000Z
DTEND:20190513T163000Z
X-MICROSOFT-CDO-ALLDAYEVENT:FALSE
SUMMARY:Travis Regional Armed Forces Committee (TRAFC) Executive Meeting
DESCRIPTION:The Travis Regional Armed Forces Committee (TRAFC) Exeutive meeting is only open to TRAFC Ex members. \n\n\n\nIf additional information or to get involved\, please reach out to Chai\, Steve Vancil at stevesanae@aol.com
X-ALT-DESC;FMTTYPE=text/html:The Travis Regional Armed Forces Committee (TRAFC) Exeutive meeting is only open to TRAFC Ex members.&nbsp\;<br />\n<br />\nIf additional information or to get involved\, please reach out to Chai\, Steve Vancil at&nbsp\;stevesanae@aol.com
LOCATION:Fairfield-Suisun Chamber of Commerce 1111 Webster St.\, Fairfield
UID:e.1602.5590
SEQUENCE:3
DTSTAMP:20260424T114251Z
URL:https://business.fairfieldsuisunchamber.com/events/details/travis-regional-armed-forces-committee-trafc-executive-meeting-05-13-2019-5590
END:VEVENT

END:VCALENDAR
