BEGIN:VCALENDAR
VERSION:2.0
PRODID:-//ChamberMaster//Event Calendar 2.0//EN
METHOD:PUBLISH
X-PUBLISHED-TTL:P3D
REFRESH-INTERVAL:P3D
CALSCALE:GREGORIAN
BEGIN:VEVENT
DTSTART:20190708T153000Z
DTEND:20190708T163000Z
X-MICROSOFT-CDO-ALLDAYEVENT:FALSE
SUMMARY:Travis Regional Armed Forces Committee (TRAFC) Executive Meeting
DESCRIPTION:The Travis Regional Armed Forces Committee (TRAFC) Exeutive meeting is only open to TRAFC Ex members. \n\n\n\nIf additional information or to get involved\, please reach out to Chair\, Jack Caldwell at jcaldwell@calwater.com
X-ALT-DESC;FMTTYPE=text/html:The Travis Regional Armed Forces Committee (TRAFC) Exeutive meeting is only open to TRAFC Ex members.&nbsp\;<br />\n<br />\nIf additional information or to get involved\, please reach out to Chair\, Jack Caldwell at&nbsp\;jcaldwell@calwater.com
LOCATION:Fairfield-Suisun Chamber of Commerce 1111 Webster St.\, Fairfield
UID:e.1602.5592
SEQUENCE:3
DTSTAMP:20260424T085621Z
URL:https://business.fairfieldsuisunchamber.com/events/details/travis-regional-armed-forces-committee-trafc-executive-meeting-07-08-2019-5592
END:VEVENT

END:VCALENDAR
