BEGIN:VCALENDAR
VERSION:2.0
PRODID:-//ChamberMaster//Event Calendar 2.0//EN
METHOD:PUBLISH
X-PUBLISHED-TTL:P3D
REFRESH-INTERVAL:P3D
CALSCALE:GREGORIAN
BEGIN:VEVENT
DTSTART:20191118T200000Z
DTEND:20191118T210000Z
X-MICROSOFT-CDO-ALLDAYEVENT:FALSE
SUMMARY:Travis Regional Armed Forces Committee (TRAFC) Committee Meeting
DESCRIPTION:The Travis Regional Armed Forces Committee (TRAFC) is a local community organization which supports the men\, women and missions of Travis Air Force Base. It's membership is comprised of local businesses and civic leaders\, including elected officials throughout Solano County\, the state and federal governments.
X-ALT-DESC;FMTTYPE=text/html:<span style="color: rgb(68\, 68\, 68)\; font-family: &quot\;open sans&quot\;\; font-size: 15px\; background-color: rgb(255\, 255\, 255)\;">The Travis Regional Armed Forces Committee (</span>TRAFC<span style="color: rgb(68\, 68\, 68)\; font-family: &quot\;open sans&quot\;\; font-size: 15px\; background-color: rgb(255\, 255\, 255)\;">) is a local community organization which supports the men\, women and missions of Travis Air Force Base. It&#39\;s membership is comprised of local businesses and civic leaders\, including elected officials throughout&nbsp\;Solano County\, the state and federal governments.</span>
LOCATION:Cypress Lakes Golf Course 5601 Meridian Road Vacaville\, CA 95687
UID:e.1602.643
SEQUENCE:3
DTSTAMP:20260424T023641Z
URL:https://business.fairfieldsuisunchamber.com/events/details/travis-regional-armed-forces-trafc-committee-meeting-11-18-2019-643
END:VEVENT

END:VCALENDAR
