BEGIN:VCALENDAR
VERSION:2.0
PRODID:-//ChamberMaster//Event Calendar 2.0//EN
METHOD:PUBLISH
X-PUBLISHED-TTL:P3D
REFRESH-INTERVAL:P3D
CALSCALE:GREGORIAN
BEGIN:VEVENT
DTSTART:20150621T010000Z
DTEND:20150621T040000Z
X-MICROSOFT-CDO-ALLDAYEVENT:FALSE
SUMMARY:Uncorked!
DESCRIPTION:Join the Suisun Valley Vintners and Growers to celebrate Suisun Valley with an evening of extraordinary food and wine. There will be a silent auction and live music featuring The Rhythm Method 4. Honored chefs: Chef Marvin Martin of Il Fiorello Olive Oil Company Chef Peter Halikas of Mankas Steakhouse Chef Jason O'Kennedy of Green Valley Country Club Chef Giovanni Guerrera of Foodshed Chefs Christina & Shauna Cruz of 707 Baked Wineries participating (to date - more to be announced): Sunset Cellars\, Mangels Vineyards\, King Andrews Vineyards\, Plough Family Vineyards\, Wooden Valley Winery\, Galvan Cellars\, GV Cellars\, Tenbrink Vineyards\, Vezer Family Vineyard
X-ALT-DESC;FMTTYPE=text/html:Join the Suisun Valley Vintners and Growers to celebrate Suisun Valley with an evening of extraordinary food and wine. There will be a silent auction and live music featuring The Rhythm Method 4. Honored chefs: Chef Marvin Martin of Il Fiorello Olive Oil Company Chef Peter Halikas of Mankas Steakhouse Chef Jason O&#39\;Kennedy of Green Valley Country Club Chef Giovanni Guerrera of Foodshed Chefs Christina &amp\; Shauna Cruz of 707 Baked Wineries participating (to date - more to be announced): Sunset Cellars\, Mangels Vineyards\, King Andrews Vineyards\, Plough Family Vineyards\, Wooden Valley Winery\, Galvan Cellars\, GV Cellars\, Tenbrink Vineyards\, Vezer Family Vineyard
LOCATION:Il Fiorello Olive Oil Company 2625 Mankas Corner Rd\, Fairfield
UID:e.1602.1887
SEQUENCE:3
DTSTAMP:20260423T130707Z
URL:https://business.fairfieldsuisunchamber.com/events/details/uncorked-06-20-2015-1887
END:VEVENT

END:VCALENDAR
