BEGIN:VCALENDAR
VERSION:2.0
PRODID:-//ChamberMaster//Event Calendar 2.0//EN
METHOD:PUBLISH
X-PUBLISHED-TTL:P3D
REFRESH-INTERVAL:P3D
CALSCALE:GREGORIAN
BEGIN:VEVENT
DTSTART:20181026T160000Z
DTEND:20181026T170000Z
X-MICROSOFT-CDO-ALLDAYEVENT:FALSE
SUMMARY:Understanding Digital Solutions & How they Funnel in the Sales Funnel
DESCRIPTION:Join the Daily Republic for coffee & pastries and learn about various digital solutions available to businesses and how they fit into your marketing efforts.
X-ALT-DESC;FMTTYPE=text/html:Join the Daily Republic for coffee &amp\; pastries and learn about various digital solutions available to businesses and how they fit into your marketing efforts.
LOCATION:Fairfield-Suisun Chamber of Commerce 1111 Webster St.\, Fairfield
UID:e.1602.6692
SEQUENCE:3
DTSTAMP:20260424T225050Z
URL:https://business.fairfieldsuisunchamber.com/events/details/understanding-digital-solutions-how-they-funnel-in-the-sales-funnel-6692
END:VEVENT

END:VCALENDAR
