BEGIN:VCALENDAR
VERSION:2.0
PRODID:-//ChamberMaster//Event Calendar 2.0//EN
METHOD:PUBLISH
X-PUBLISHED-TTL:P3D
REFRESH-INTERVAL:P3D
CALSCALE:GREGORIAN
BEGIN:VEVENT
DTSTART:20190614T020000Z
DTEND:20190614T033000Z
X-MICROSOFT-CDO-ALLDAYEVENT:FALSE
SUMMARY:USAF Band of the Golden West
DESCRIPTION:Join the USAF Band of the Golden west for dinner and a show at the Theatre DeVille in downtown Vacaville. The doors open at 6:30pm\, seats are first come first serve. Free Admission.
X-ALT-DESC;FMTTYPE=text/html:Join the USAF Band of the Golden west for dinner and a show at the Theatre DeVille in downtown Vacaville. The doors open at 6:30pm\, seats are first come first serve. Free Admission.
LOCATION:DeVille Theater
UID:e.1602.7117
SEQUENCE:3
DTSTAMP:20260424T101354Z
URL:https://business.fairfieldsuisunchamber.com/events/details/usaf-band-of-the-golden-west-06-13-2019-7117
END:VEVENT

END:VCALENDAR
