BEGIN:VCALENDAR
VERSION:2.0
PRODID:-//ChamberMaster//Event Calendar 2.0//EN
METHOD:PUBLISH
X-PUBLISHED-TTL:P3D
REFRESH-INTERVAL:P3D
CALSCALE:GREGORIAN
BEGIN:VEVENT
DTSTART:20190615T020000Z
DTEND:20190615T033000Z
X-MICROSOFT-CDO-ALLDAYEVENT:FALSE
SUMMARY:USAF Band of the Golden West
DESCRIPTION:Join the USAF Band of the Golden West for an evening of concert band music at the Harbor Theater in Suisun City\, CA. Find more information about this concert and other concerts in this local series by visiting their facebook page and event.
X-ALT-DESC;FMTTYPE=text/html:<span style="font-size:16px\;">Join the USAF Band of the Golden West for an evening of concert band music at the Harbor Theater in Suisun City\, CA. Find more information about this concert and other concerts in this local series by visiting their facebook page and event.</span>
LOCATION:Harbor Theater 720 Main Street\, Downtown Suisun City
UID:e.1602.7115
SEQUENCE:3
DTSTAMP:20260424T103451Z
URL:https://business.fairfieldsuisunchamber.com/events/details/usaf-band-of-the-golden-west-7115
END:VEVENT

END:VCALENDAR
