BEGIN:VCALENDAR
VERSION:2.0
PRODID:-//ChamberMaster//Event Calendar 2.0//EN
METHOD:PUBLISH
X-PUBLISHED-TTL:P3D
REFRESH-INTERVAL:P3D
CALSCALE:GREGORIAN
BEGIN:VEVENT
DTSTART:20200222T180000Z
DTEND:20200224T010000Z
X-MICROSOFT-CDO-ALLDAYEVENT:FALSE
SUMMARY:Vallejo Gem\, Mineral & Jewelry Show
DESCRIPTION:55th Annual Gem\, Mineral and Jewelry Show. Over 35 Dealers offering Hand Crafted Jewelry\, Gems\, Minerals\, Fossils\, Crystals\, Jade\, Meteorites\, Turquoise\, Ongoing silent Auction: Lapidary Quality Rough rock\, Slabs\, petrified wood Kids Corner featuring: geode cracking\, wheel of fortune\, digging for treasures\, & more
X-ALT-DESC;FMTTYPE=text/html:55th Annual Gem\, Mineral and Jewelry Show. Over 35 Dealers offering Hand Crafted Jewelry\, Gems\, Minerals\, Fossils\, Crystals\, Jade\, Meteorites\, Turquoise\, Ongoing silent Auction: Lapidary Quality Rough rock\, Slabs\, petrified wood Kids Corner featuring: geode cracking\, wheel of fortune\, digging for treasures\, &amp\; more
LOCATION:Solano County Fairgrounds. McCormack Hall 900 Fairgrounds Drive\, Vallejo\, Ca
UID:e.1602.7402
SEQUENCE:3
DTSTAMP:20260423T220743Z
URL:https://business.fairfieldsuisunchamber.com/events/details/vallejo-gem-mineral-jewelry-show-7402
END:VEVENT

END:VCALENDAR
