BEGIN:VCALENDAR
VERSION:2.0
PRODID:-//ChamberMaster//Event Calendar 2.0//EN
METHOD:PUBLISH
X-PUBLISHED-TTL:P3D
REFRESH-INTERVAL:P3D
CALSCALE:GREGORIAN
BEGIN:VEVENT
DTSTART;VALUE=DATE:20180901
DTEND;VALUE=DATE:20180902
TRANSP:TRANSPARENT
X-MICROSOFT-CDO-ALLDAYEVENT:TRUE
SUMMARY:Vinny & Rosie's "Birthday Party"
DESCRIPTION:COME CELEBRATE WITH US!
X-ALT-DESC;FMTTYPE=text/html:<div style="text-align: center\;"><br />\n<span style="font-size:26px\;"><strong>COME CELEBRATE WITH US!</strong></span></div>\n
LOCATION:Vinny & Rosie's 603 Main Street Suisun City\, CA 94585
UID:e.1602.6615
SEQUENCE:3
DTSTAMP:20260425T000115Z
URL:https://business.fairfieldsuisunchamber.com/events/details/vinny-rosie-s-birthday-party-6615
END:VEVENT

END:VCALENDAR
