BEGIN:VCALENDAR
VERSION:2.0
PRODID:-//ChamberMaster//Event Calendar 2.0//EN
METHOD:PUBLISH
X-PUBLISHED-TTL:P3D
REFRESH-INTERVAL:P3D
CALSCALE:GREGORIAN
BEGIN:VEVENT
DTSTART:20181020T210000Z
DTEND:20181021T000000Z
X-MICROSOFT-CDO-ALLDAYEVENT:FALSE
SUMMARY:Vinyl Ride - A Classic Rock Band
DESCRIPTION:Vinyl Ride is a classic Rock & Roll band based in Northern California\, specializing in the guitar driven songs from the 70's\, 80's and 90's.\n\n \n\nVinyl Ride was borne out of the need for more guitar-in-your-face rock in the Sacramento area! With over 100 years of combined musical and performance experience\, Vinyl Ride brings together five powerhouse veterans from the local music scene. Pulling from musical influences like Tom Petty\, U2\, Bryan Adams\, Poison and more\; Vinyl Ride sets out to bring an arena rock concert to any venue.\n\n \n\nThe power and musicianship of Vinyl Ride is on display every time the band performs. With shows all over the central valley as well as southern California\; the reviews are in and the standard has been set. If you want the best rock band in the area\; look no further than Vinyl Ride\n\n \n\nBand Members\n\nRon Elm   Lead Singer\n\nBob Giverink   Lead Guitar\n\nChris Davis   Lead Guitar\n\nLoren LeVasseur   Bass\n\nGreg Gelnette   Drums\n\n \n\n$15/person   includes one glass "First Flight" Wine\n\nReservations Recommended for Choice Seating\n\nCall/Text: (707)330-3806 or www.sevenartisanswinery.com/events\n\nEmail: sevenartisanswinery@gmail.com\n\n*No outside alcoholic beverages*- 21+ to purchase alcohol
X-ALT-DESC;FMTTYPE=text/html:Vinyl Ride is a classic Rock &amp\; Roll band based in Northern California\, specializing in the guitar driven songs from the 70&#39\;s\, 80&#39\;s and 90&#39\;s.<br />\n&nbsp\;<br />\nVinyl Ride was borne out of the need for more guitar-in-your-face rock in the Sacramento area! With over 100 years of combined musical and performance experience\, Vinyl Ride brings together five powerhouse veterans from the local music scene. Pulling from musical influences like Tom Petty\, U2\, Bryan Adams\, Poison and more\; Vinyl Ride sets out to bring an arena rock concert to any venue.<br />\n&nbsp\;<br />\nThe power and musicianship of Vinyl Ride is on display every time the band performs. With shows all over the central valley as well as southern California\; the reviews are in and the standard has been set. If you want the best rock band in the area\; look no further than Vinyl Ride<br />\n&nbsp\;<br />\n<strong><u>Band Members</u></strong><br />\nRon Elm &ndash\; Lead Singer<br />\nBob Giverink &ndash\; Lead Guitar<br />\nChris Davis &ndash\; Lead Guitar<br />\nLoren LeVasseur &ndash\; Bass<br />\nGreg Gelnette &ndash\; Drums<br />\n&nbsp\;<br />\n$15/person &ndash\; includes one glass &ldquo\;First Flight&rdquo\; Wine<br />\nReservations Recommended for Choice Seating<br />\nCall/Text: (707)330-3806 or www.sevenartisanswinery.com/events<br />\nEmail: sevenartisanswinery@gmail.com<br />\n*No outside alcoholic beverages*- 21+ to purchase alcohol
LOCATION:Seven Artisans Winery 4341 Abernathy Road Fairfield\, CA 94534 (707) 330-3806
UID:e.1602.6693
SEQUENCE:3
DTSTAMP:20260424T225018Z
URL:https://business.fairfieldsuisunchamber.com/events/details/vinyl-ride-a-classic-rock-band-6693
END:VEVENT

END:VCALENDAR
