BEGIN:VCALENDAR
VERSION:2.0
PRODID:-//ChamberMaster//Event Calendar 2.0//EN
METHOD:PUBLISH
X-PUBLISHED-TTL:P3D
REFRESH-INTERVAL:P3D
CALSCALE:GREGORIAN
BEGIN:VEVENT
DTSTART:20180818T220000Z
DTEND:20180819T010000Z
X-MICROSOFT-CDO-ALLDAYEVENT:FALSE
SUMMARY:VIP Wine Food & Brew
DESCRIPTION:Come experience the taste of\n\n2018 VIP Wine Food & Brew \n\n \n\nSaturday\, August 18th from 3-6 pm!\n\nLocal vintners and breweries will be paired with specialty restaurants.\n\nTo create a "taste" of their very best!  \n\n\n\nTickets are on sale NOW!
X-ALT-DESC;FMTTYPE=text/html:<div><br />\n&nbsp\;</div>\n\n<div style="text-align: center\;"><span style="font-size:26px\;"><span background-color:="" new="" style="color: rgb(51\, 51\, 51)\; font-family: " text-align:="" times="">Come experience the taste of</span><br background-color:="" font-size:="" new="" style="color: rgb(51\, 51\, 51)\; font-family: " text-align:="" times="" />\n<strong><span background-color:="" new="" style="color: rgb(51\, 51\, 51)\; font-family: " text-align:="" times="">2018 VIP Wine Food &amp\; Brew&nbsp\;</span></strong></span><br background-color:="" font-size:="" new="" style="color: rgb(51\, 51\, 51)\; font-family: " text-align:="" times="" />\n&nbsp\;<br />\n<span style="font-size:22px\;"><span style="font-family:calibri\,sans-serif\;">Saturday\, August 18<sup>th</sup> from 3-6 pm!<br />\nLocal vintners and&nbsp\;breweries will be paired&nbsp\;with specialty restaurants.<br />\nTo create a &ldquo\;taste&rdquo\; of their very best!&nbsp\;&nbsp\;</span><br />\n<br />\n<span background-color:="" new="" style="color: rgb(51\, 51\, 51)\; font-family: " text-align:="" times=""><span style="font-size:28px\;">Tickets are on sale <strong>NOW</strong>!</span></span></span></div>\n
LOCATION:Solano County Event Center 601 Texas Street Fairfield\, Ca 94533
UID:e.1602.5539
SEQUENCE:3
DTSTAMP:20260425T013458Z
URL:https://business.fairfieldsuisunchamber.com/events/details/vip-wine-food-brew-5539
END:VEVENT

END:VCALENDAR
