BEGIN:VCALENDAR
VERSION:2.0
PRODID:-//ChamberMaster//Event Calendar 2.0//EN
METHOD:PUBLISH
X-PUBLISHED-TTL:P3D
REFRESH-INTERVAL:P3D
CALSCALE:GREGORIAN
BEGIN:VEVENT
DTSTART:20200604T190000Z
DTEND:20200604T200000Z
X-MICROSOFT-CDO-ALLDAYEVENT:FALSE
SUMMARY:Virtual Vigil in Honor of George Floyd - 6/4 @ Noon\, Please Join Us
DESCRIPTION:Dear TUC Community:\n\nIn light of the recent tragic events\, the Academic Leadership Team at Touro University California invites you to a virtual vigil mourning the death of George Floyd on Thursday\, June 4th from Noon ? 1:00 p.m.  Like you\, we are angry and hurt by this horrific death and the disregard for the life of another human being.  This loss\, like many other unfortunate deaths over these past few years\, highlights the issue of police violence\, the impact of racism within the United States\, and challenges the notion that we live a post-racial and color-blind society.  The events around the country also bring to light the importance of recognizing racism not only occurs in Minneapolis\, but also can occur close to home in both Vallejo and within our own community.\n\nSince we understand that many within the TUC family are feeling overwhelmed not only by the incidents over the last few days but also with the ongoing challenges associated with COVID-19\, we call on the university and Vallejo communities to come together on June 4th in a show of solidarity and healing. We believe that the pain that we all are collectively experiencing reflects an opportunity for us to recommit ourselves to advancing the cause of social justice\, promoting anti-racism\, and fulfilling TUC?s legacy of inspirational teaching and scholarship\, transformative leadership\, and exemplary service. \n\nPlease join us for the virtual vigil on Thursday\, June 4th from Noon ? 1:00 p.m. by following the Zoom meeting instructions included below:\n\nJoin Zoom Meeting\n\nhttps://zoom.us/j/99009639662?pwd=bFVGeDFnVUxYVDhSK1pMUmFaOEFTUT09\n\nMeeting ID: 990 0963 9662\n\nPassword: 655779\n\nOne tap mobile\n\n+16699006833\,\,99009639662#\,\,1#\,655779# US (San Jose)\n\n+12532158782\,\,99009639662#\,\,1#\,655779# US (Tacoma) \n\nThank you for joining us for this important vigil and conversation.  We hope to see you soon.\n\nSincerely\,\n\nThe Members of the Touro University California Academic Leadership Team \n\nSarah Sweitzer\, Provost and Chief Academic Officer\n\nMichael Clearfield\, Dean of the College of Osteopathic Medicine\n\nPatrick Donaghue\, Director of Facilities\n\nRobert Ficken\, Director of Human Resources\n\nAndrea Garcia\, Associate Vice President for Advancement\n\nSteve Jacobson\, Dean of Student Affairs\n\nLisa Norton\, Dean of the College of Education and Health Sciences\n\nJack Madderra\, Network Manager and Chair of TUC Staff Council\n\nRae Matsumoto\, Dean of the College of Pharmacy\n\nJim O?Connor\, Director of the Center for Innovative Learning and Teaching\, Western Division\n\nScott Olds\, Director of Information Technology\n\nZachary Shapiro\, Compliance Officer\n\nMeiling Tang\, Associate Vice President for Institutional Research\n\nRabbi Elchonon Tenenbaum\, University Rabbi\n\nTamara Trujillo\, Library Director and Chair of TUC Faculty Senate
X-ALT-DESC;FMTTYPE=text/html:<p style="box-sizing: border-box\; margin: 0px 0px 1rem\; font-size: 16px\; color: rgb(68\, 68\, 68)\; font-family: Questrial\, sans-serif\;">Dear TUC Community:<o:p style="box-sizing: border-box\;"></o:p></p>\n\n<p style="box-sizing: border-box\; margin: 0px 0px 1rem\; font-size: 16px\; color: rgb(68\, 68\, 68)\; font-family: Questrial\, sans-serif\;">In light of the recent tragic events\, the Academic Leadership Team at Touro University California invites you to a virtual vigil mourning the death of George Floyd on Thursday\, June 4<span style="box-sizing: border-box\; position: relative\; font-size: 12px\; line-height: 0\; vertical-align: baseline\; top: -0.5em\;">th</span>&nbsp\;from Noon ? 1:00 p.m.&nbsp\; Like you\, we are angry and hurt by this horrific death and the disregard for the life of another human being.&nbsp\; This loss\, like many other unfortunate deaths over these past few years\, highlights the issue of police violence\, the impact of racism within the United States\, and challenges the notion that we live a post-racial and color-blind society.&nbsp\; The events around the country also bring to light the importance of recognizing racism not only occurs in Minneapolis\, but also can occur close to home in both Vallejo and within our own community.<o:p style="box-sizing: border-box\;"></o:p></p>\n\n<p style="box-sizing: border-box\; margin: 0px 0px 1rem\; font-size: 16px\; color: rgb(68\, 68\, 68)\; font-family: Questrial\, sans-serif\;">Since we understand that many within the TUC family are feeling overwhelmed not only by the incidents over the last few days but also with the ongoing challenges associated with COVID-19\, we call on the university and Vallejo communities to come together on June 4th in a show of solidarity and healing. We believe that the pain that we all are collectively experiencing reflects an opportunity for us to recommit ourselves to advancing the cause of social justice\, promoting anti-racism\, and fulfilling TUC?s legacy of inspirational teaching and scholarship\, transformative leadership\, and exemplary service.&nbsp\;<o:p style="box-sizing: border-box\;"></o:p></p>\n\n<p style="box-sizing: border-box\; margin: 0px 0px 1rem\; font-size: 16px\; color: rgb(68\, 68\, 68)\; font-family: Questrial\, sans-serif\;">Please join us for the virtual vigil on&nbsp\;<span style="box-sizing: border-box\; font-weight: bolder\;">Thursday\, June 4<span style="box-sizing: border-box\; position: relative\; font-size: 12px\; line-height: 0\; vertical-align: baseline\; top: -0.5em\;">th</span>&nbsp\;from Noon ? 1:00 p.m.</span>&nbsp\;by following the Zoom meeting instructions included below:<o:p style="box-sizing: border-box\;"></o:p></p>\n\n<p style="box-sizing: border-box\; margin: 0px 0px 1rem\; font-size: 16px\; color: rgb(68\, 68\, 68)\; font-family: Questrial\, sans-serif\;">Join Zoom Meeting<o:p style="box-sizing: border-box\;"></o:p></p>\n\n<p style="box-sizing: border-box\; margin: 0px 0px 1rem 22.5pt\; font-size: 16px\; color: rgb(68\, 68\, 68)\; font-family: Questrial\, sans-serif\;"><a href="https://zoom.us/j/99009639662?pwd=bFVGeDFnVUxYVDhSK1pMUmFaOEFTUT09" style="box-sizing: border-box\; background-color: transparent\; color: rgb(0\, 89\, 143)\; text-decoration-line: none\; font-weight: 900\; overflow-wrap: break-word\; outline: 0px\;">https://zoom.us/j/99009639662?pwd=bFVGeDFnVUxYVDhSK1pMUmFaOEFTUT09</a><o:p style="box-sizing: border-box\;"></o:p></p>\n\n<p style="box-sizing: border-box\; margin: 0px 0px 1rem 22.5pt\; font-size: 16px\; color: rgb(68\, 68\, 68)\; font-family: Questrial\, sans-serif\;">Meeting ID: 990 0963 9662<br style="box-sizing: border-box\;">\nPassword: 655779<o:p style="box-sizing: border-box\;"></o:p></p>\n\n<p style="box-sizing: border-box\; margin: 0px 0px 1rem 22.5pt\; font-size: 16px\; color: rgb(68\, 68\, 68)\; font-family: Questrial\, sans-serif\;">One tap mobile<br style="box-sizing: border-box\;">\n+16699006833\,\,99009639662#\,\,1#\,655779# US (San Jose)<br style="box-sizing: border-box\;">\n+12532158782\,\,99009639662#\,\,1#\,655779# US (Tacoma)&nbsp\;<o:p style="box-sizing: border-box\;"></o:p></p>\n\n<p style="box-sizing: border-box\; margin: 0px 0px 1rem\; font-size: 16px\; color: rgb(68\, 68\, 68)\; font-family: Questrial\, sans-serif\;">Thank you for joining us for this important vigil and conversation.&nbsp\; We hope to see you soon.<o:p style="box-sizing: border-box\;"></o:p></p>\n\n<p style="box-sizing: border-box\; margin: 0px 0px 1rem\; font-size: 16px\; color: rgb(68\, 68\, 68)\; font-family: Questrial\, sans-serif\;">Sincerely\,<o:p style="box-sizing: border-box\;"></o:p></p>\n\n<p style="box-sizing: border-box\; margin: 0px 0px 1rem\; font-size: 16px\; color: rgb(68\, 68\, 68)\; font-family: Questrial\, sans-serif\;">The Members of the Touro University California Academic Leadership Team&nbsp\;<o:p style="box-sizing: border-box\;"></o:p></p>\n\n<p style="box-sizing: border-box\; margin: 0px 0px 1rem 22.5pt\; font-size: 16px\; outline: 0px\; color: rgb(68\, 68\, 68)\; font-family: Questrial\, sans-serif\;">Sarah Sweitzer\, Provost and Chief Academic Officer<br style="box-sizing: border-box\;">\nMichael Clearfield\, Dean of the College of Osteopathic Medicine<br style="box-sizing: border-box\;">\nPatrick Donaghue\, Director of Facilities<br style="box-sizing: border-box\;">\nRobert Ficken\, Director of Human Resources<br style="box-sizing: border-box\;">\nAndrea Garcia\, Associate Vice President for Advancement<br style="box-sizing: border-box\;">\nSteve Jacobson\, Dean of Student Affairs<br style="box-sizing: border-box\;">\nLisa Norton\, Dean of the College of Education and Health Sciences<br style="box-sizing: border-box\;">\nJack Madderra\, Network Manager and Chair of TUC Staff Council<br style="box-sizing: border-box\;">\nRae Matsumoto\, Dean of the College of Pharmacy<br style="box-sizing: border-box\;">\nJim O?Connor\, Director of the Center for Innovative Learning and Teaching\, Western Division<br style="box-sizing: border-box\;">\nScott Olds\, Director of Information Technology<br style="box-sizing: border-box\;">\nZachary Shapiro\, Compliance Officer<br style="box-sizing: border-box\;">\nMeiling Tang\, Associate Vice President for Institutional Research<br style="box-sizing: border-box\;">\nRabbi Elchonon Tenenbaum\, University Rabbi<br style="box-sizing: border-box\;">\nTamara Trujillo\, Library Director and Chair of TUC Faculty Senate</p>\n
LOCATION:Join Zoom Meeting Meeting ID: 990 0963 9662 Password: 655779 One tap mobile +16699006833\,\,99009639662#\,\,1#\,655779# US (San Jose) +12532158782\,\,99009639662#\,\,1#\,655779# US (Tacoma) .
UID:e.1602.7467
SEQUENCE:3
DTSTAMP:20260423T152153Z
URL:https://business.fairfieldsuisunchamber.com/events/details/virtual-vigil-in-honor-of-george-floyd-6-4-noon-please-join-us-7467
END:VEVENT

END:VCALENDAR
