BEGIN:VCALENDAR
VERSION:2.0
PRODID:-//ChamberMaster//Event Calendar 2.0//EN
METHOD:PUBLISH
X-PUBLISHED-TTL:P3D
REFRESH-INTERVAL:P3D
CALSCALE:GREGORIAN
BEGIN:VEVENT
DTSTART:20190615T010000Z
DTEND:20190615T040000Z
X-MICROSOFT-CDO-ALLDAYEVENT:FALSE
SUMMARY:Wine & Canvas @ Mankas Gardens
DESCRIPTION:Are you feeling creative?\n\n\n\nLets sip Vezer Wine and try our hand at painting on Canvas.\n\n\n\n2522 Mankas Corner Rd. | Fairfield\, CA | 94534\n\n\n\nJun 14th\,  Friday 6:00 - 9:00 p.m.\n\nVezer Wine may be purchase during the event.\n\n\n\n All Club Members $35 (includes all art materials/canvas)\n\n\n\nNon Club Members $45 (includes all art materials/canvas)\n\n* Only 21 years of age and older may attend \n\nTicket sales will end on Jun 11th \n\nFood Option - Mankas Steakhouse will be catering the event\n\n\n\n\n\nWine and Canvas is not just a paint class it is Art Entertainment at its finest. Awesome local artists\, great customer service and beautiful surroundings make for an amazing experience that you don't find anywhere else. Sipping your favorite VEZER Wine\, letting your inner artist out to create a masterpiece and maybe breaking into song throughout the night is what we have planned for you! Leave your cares at the door and dive in to the paint party! Best part you take your artwork with you and leave the clean up behind!\n\n\n\nLocal artists in each city inspire and Instruct Wine and Canvas customers step-by-step to create their finished masterpiece. Each location hosts many events monthly with a different featured painting each night. With our step-by-step instruction method customers without a stroke of painting experience are at ease.
X-ALT-DESC;FMTTYPE=text/html:<p style="margin-left:0px\; margin-right:0px\; text-align:center">Are you feeling creative?</p>\n\n<p style="margin-left:0px\; margin-right:0px\; text-align:center"><br />\nLets sip Vezer Wine and try our hand at painting on Canvas.</p>\n\n<p style="margin-left:0px\; margin-right:0px\; text-align:center"><br />\n2522 Mankas Corner Rd. | Fairfield\, CA | 94534<br />\n<br />\nJun 14th\,&nbsp\; Friday 6:00 - 9:00 p.m.<br />\nVezer Wine may be purchase during the event.<br />\n<br />\n&nbsp\;All Club Members $35 (includes all art materials/canvas)<br />\n<br />\nNon Club Members $45 (includes all art materials/canvas)<br />\n* Only 21 years of age and older may attend&nbsp\;<br />\nTicket sales will end on Jun 11th&nbsp\;</p>\n\n<p style="margin-left:0px\; margin-right:0px\; text-align:center"><strong><u>Food Option - Mankas Steakhouse will be catering the event</u></strong></p>\n\n<p style="margin-left:0px\; margin-right:0px\; text-align:center"><br />\n<br />\nWine and Canvas is not just a paint class it is Art Entertainment at its finest. Awesome local artists\, great customer service and beautiful surroundings make for an amazing experience that you don&#39\;t find anywhere else. Sipping your favorite VEZER Wine\, letting your inner artist out to create a masterpiece and maybe breaking into song throughout the night is what we have planned for you! Leave your cares at the door and dive in to the paint party! Best part you take your artwork with you and leave the clean up behind!<br />\n<br />\nLocal artists in each city inspire and Instruct Wine and Canvas customers step-by-step to create their finished masterpiece. Each location hosts many events monthly with a different featured painting each night. With our step-by-step instruction method customers without a stroke of painting experience are at ease.</p>\n
LOCATION:Mankas Gardens
UID:e.1602.7033
SEQUENCE:3
DTSTAMP:20260424T100752Z
URL:https://business.fairfieldsuisunchamber.com/events/details/wine-canvas-mankas-gardens-7033
END:VEVENT

END:VCALENDAR
