BEGIN:VCALENDAR
VERSION:2.0
PRODID:-//ChamberMaster//Event Calendar 2.0//EN
METHOD:PUBLISH
X-PUBLISHED-TTL:P3D
REFRESH-INTERVAL:P3D
CALSCALE:GREGORIAN
BEGIN:VEVENT
DTSTART:20190414T230000Z
DTEND:20190415T020000Z
X-MICROSOFT-CDO-ALLDAYEVENT:FALSE
SUMMARY:Wine & Live Music Event- Rhythm Method 4
DESCRIPTION:Wine & Live Music Event\n\nfeaturing Rhythm Method 4\n\nTime: 4:00 - 7:00 p.m.\n\nLocation: The Blue Victorian Winery\n\nEntry Details:\n\nOpen event to everyone!Members and Non Members - Receive 2 complimentary passes to the Wine & Live Music Event! No purchase necessary\n\nReserve Seating: There will be no reserve seating for this event\n\n* Club Member Tickets are non transferable - club member must be present\n\n* Only 21 years of age and older may attend \n\nFood Details: Food available for purchase at the event by TBD no outside food is allowed.\n\nWine Details: Wine is available for purchase\, not outside alcohol is allowed\n\n\n\nCANCELLATION POLICY IN EFFECT\n\n'Cancellation policy   You must provide in writing via email to cancel no later than 48 hours prior to the event that you are unable to attend.  If you rsvp'd to the event and do not show you will be charged according to the retail price of the ticket for the event with your credit card on file. You will be charged full price\, No discounts will apply\, and no shows are nonrefundable.
X-ALT-DESC;FMTTYPE=text/html:<p style="margin-left:0px\; margin-right:0px\; text-align:center"><strong>Wine &amp\; Live Music Event</strong></p>\n\n<p style="margin-left:0px\; margin-right:0px\; text-align:center"><strong>featuring Rhythm Method 4</strong></p>\n\n<p style="margin-left:0px\; margin-right:0px\; text-align:center"><strong>Time: </strong>4:00 - 7:00 p.m.</p>\n\n<p style="margin-left:0px\; margin-right:0px\; text-align:center"><strong>Location:</strong>&nbsp\;The Blue Victorian Winery</p>\n\n<p style="margin-left:0px\; margin-right:0px\; text-align:center"><strong>Entry Details</strong>:</p>\n\n<p style="margin-left:0px\; margin-right:0px\; text-align:center">Open event to everyone!Members and Non Members - Receive 2 complimentary passes to the Wine &amp\; Live Music Event! No purchase necessary</p>\n\n<p style="margin-left:0px\; margin-right:0px\; text-align:center"><strong>Reserve Seating:</strong>&nbsp\;There will be no reserve seating for this event<br />\n* Club Member Tickets are non transferable - club member must be present<br />\n* Only 21 years of age and older may attend&nbsp\;<br />\nFood Details:&nbsp\;Food available for purchase at the event by TBD no outside food is allowed.<br />\nWine Details:&nbsp\;Wine is available for purchase\, not outside alcohol is allowed<br />\n<br />\n<strong>CANCELLATION POLICY IN EFFECT</strong><br />\n&#39\;Cancellation policy &ndash\; You must provide in writing via email to cancel no later than 48 hours prior to the event that you are unable to attend. &nbsp\;If you rsvp&#39\;d to the event and do not show you will be charged according to the retail price of the ticket for the event with your credit card on file. You will be charged full price\, No discounts will apply\, and no shows are nonrefundable.</p>\n
LOCATION:The Blue Victorian Winery
UID:e.1602.7030
SEQUENCE:3
DTSTAMP:20260424T113751Z
URL:https://business.fairfieldsuisunchamber.com/events/details/wine-live-music-event-rhythm-method-4-7030
END:VEVENT

END:VCALENDAR
