BEGIN:VCALENDAR
VERSION:2.0
PRODID:-//ChamberMaster//Event Calendar 2.0//EN
METHOD:PUBLISH
X-PUBLISHED-TTL:P3D
REFRESH-INTERVAL:P3D
CALSCALE:GREGORIAN
BEGIN:VEVENT
DTSTART:20191005T233000Z
DTEND:20191006T023000Z
X-MICROSOFT-CDO-ALLDAYEVENT:FALSE
SUMMARY:Wine & Live Music Event- Time Bandits
DESCRIPTION:Seating: DOORS OPEN EARLY AT 3:30 p.m.\n\nBand: Music starts begins 4:30 p.m. - 7:30 p.m.(estimated duration of the band 2 1/2 - 3 hours)\n\nLocation: Mankas Garden ( Location is subject to change)\n\nEvent Details: Voucher/passes sales end 24 hours prior to the event.\n\n* Passes are non transferable\n\n* Only 21 years of age and older may attend \n\n * Shuttle Service - Park at the Suisun Valley School\n\nFood Details: Food available for purchase at the event\, no outside food is allowed.\n\nWine Details: Wine is available for purchase\, not outside alcohol is allowed\n\n\n\n\n\nVEZERSTOCK Wine & Live Music Series RSVP Info\n\n\n\nNon Member: General Admission\n\n"Vezer Day Pass" - $49.99 (total value at $80)\n\n\n\n* Includes 2 complimentary passes to the Wine & Live Music Event ($40 value)\n\n\n\n *In addition\, includes 2 wine tasting passes for a future date in our two tasting rooms during non event days. (voucher give at the door the day of the event only) ($40 value)\n\n* There is no cash value for the voucher. Credits/balance will not be given.\n\n* 48 hour cancellation policy for a refund\n\n____________________________________________________\n\nChieftain Members - Receive 2 complimentary passes to each event in advance\, rsvp is required. Additional Tickets require you to purchase a "Vezer Day Pass" for $49.99\n\n\n\nElite/Ambassador Members - $10.00 per pass per person\n\n\n\n\n\n____________________________\n\n\n\nCANCELLATION POLICY IN EFFECT\n\n'Cancellation policy   You must provide in writing no later than 48 hours prior to the event that you are unable to attend.  If you rsvp'd to the event and do not show you will be charged according to the retail price of the ticket for the event with your credit card on file. You will be charged full price\, No discounts will apply\, and no shows are nonrefundable. (VEZERSTOCK Wine & Live Music series $19.99\, Chieftain Gala $150.00\, Pick up Parties $29.00\, Port Tasting $15 - $25\, Dog Walk $10\, Karaoke Party $10). Staff members are not authorized to accept cancellations.'
X-ALT-DESC;FMTTYPE=text/html:<p style="margin-left:0px\; margin-right:0px\; text-align:center"><strong>Seating:&nbsp\;</strong>DOORS OPEN EARLY AT 3:30 p.m.</p>\n\n<p style="margin-left:0px\; margin-right:0px\; text-align:center"><strong>Band:</strong>&nbsp\;Music starts begins 4:30 p.m. - 7:30 p.m.(estimated duration of the band 2 1/2 - 3 hours)</p>\n\n<p style="margin-left:0px\; margin-right:0px\; text-align:center"><strong>Location:</strong> Mankas Garden ( Location is subject to change)</p>\n\n<p style="margin-left:0px\; margin-right:0px\; text-align:center"><strong>Event</strong> <strong>Details</strong>: Voucher/passes sales end 24 hours prior to the event.</p>\n\n<p style="margin-left:0px\; margin-right:0px\; text-align:center">* Passes are non transferable</p>\n\n<p style="margin-left:0px\; margin-right:0px\; text-align:center">* Only 21 years of age and older may attend&nbsp\;</p>\n\n<p style="margin-left:0px\; margin-right:0px\; text-align:center">&nbsp\;* Shuttle Service - Park at the Suisun Valley School</p>\n\n<p style="margin-left:0px\; margin-right:0px\; text-align:center"><strong>Food Details:</strong>&nbsp\;Food available for purchase at the event\, no outside food is allowed.</p>\n\n<p style="margin-left:0px\; margin-right:0px\; text-align:center"><strong>Wine Details:</strong>&nbsp\;Wine is available for purchase\, not outside alcohol is allowed<br />\n<br />\n<br />\n<strong>VEZERSTOCK Wine &amp\; Live Music Series RSVP Info</strong><br />\n<br />\n<strong>Non Member: General Admission</strong><br />\n&quot\;Vezer Day Pass&quot\; - $49.99 (total value at $80)</p>\n\n<p style="margin-left:0px\; margin-right:0px\; text-align:center"><br />\n* Includes 2 complimentary passes to the Wine &amp\; Live Music Event ($40 value)</p>\n\n<p style="margin-left:0px\; margin-right:0px\; text-align:center"><br />\n&nbsp\;*In addition\, includes 2 wine tasting passes for a future date in our two tasting rooms during non event days. (voucher give at the door the day of the event only) ($40 value)</p>\n\n<p style="margin-left:0px\; margin-right:0px\; text-align:center">* There is no cash value for the voucher. Credits/balance will not be given.</p>\n\n<p style="margin-left:0px\; margin-right:0px\; text-align:center">* 48 hour cancellation policy for a refund</p>\n\n<p style="margin-left:0px\; margin-right:0px\; text-align:center">____________________________________________________</p>\n\n<p style="margin-left:0px\; margin-right:0px\; text-align:center"><strong>Chieftain Members</strong> -&nbsp\;Receive 2 complimentary passes to each event in advance\,&nbsp\;rsvp is required. Additional Tickets require you to purchase a &quot\;Vezer Day Pass&quot\; for $49.99<br />\n<br />\n<strong>Elite/Ambassador Members </strong>- $10.00 per pass per person<br />\n<br />\n<br />\n____________________________</p>\n\n<p style="margin-left:0px\; margin-right:0px\; text-align:center"><br />\n<strong>CANCELLATION POLICY IN EFFECT</strong><br />\n&#39\;Cancellation policy &ndash\; You must provide in writing no later than 48 hours prior to the event that you are unable to attend. &nbsp\;If you rsvp&#39\;d to the event and do not show you will be charged according to the retail price of the ticket for the event with your credit card on file. You will be charged full price\, No discounts will apply\, and no shows are nonrefundable. (VEZERSTOCK Wine &amp\; Live Music series $19.99\, Chieftain Gala $150.00\, Pick up Parties $29.00\, Port Tasting $15 - $25\, Dog Walk $10\, Karaoke Party $10). Staff members are not authorized to accept cancellations.&#39\;</p>\n
LOCATION:Mankas Garden (subject to change)
UID:e.1602.7041
SEQUENCE:3
DTSTAMP:20260424T040554Z
URL:https://business.fairfieldsuisunchamber.com/events/details/wine-live-music-event-time-bandits-7041
END:VEVENT

END:VCALENDAR
