BEGIN:VCALENDAR
VERSION:2.0
PRODID:-//ChamberMaster//Event Calendar 2.0//EN
METHOD:PUBLISH
X-PUBLISHED-TTL:P3D
REFRESH-INTERVAL:P3D
CALSCALE:GREGORIAN
BEGIN:VEVENT
DTSTART:20150522T230000Z
DTEND:20150523T020000Z
X-MICROSOFT-CDO-ALLDAYEVENT:FALSE
SUMMARY:Winery Event
DESCRIPTION:Hi Karine: You\, your clients and employees might be interested in this. Please read on...hope to see you at the Winery. FREE FRIDAYS At SEVEN ARTISANS WINERY 4341 Abernathy Road Suisun Valley\, Fairfield TASTING FEE WAIVED SMALL BITES WINE SALE JOIN US FROM 4:00-7:00 EVERY FRIDAY FOR HAPPY ?HOURS?
X-ALT-DESC;FMTTYPE=text/html:Hi Karine: You\, your clients and employees might be interested in this. Please read on...hope to see you at the Winery. FREE FRIDAYS At SEVEN ARTISANS WINERY 4341 Abernathy Road Suisun Valley\, Fairfield TASTING FEE WAIVED SMALL BITES WINE SALE JOIN US FROM 4:00-7:00 EVERY FRIDAY FOR HAPPY ?HOURS?
LOCATION:4341 Abernathy Road Suisun Valley/Fairfield
UID:e.1602.1892
SEQUENCE:3
DTSTAMP:20260422T115211Z
URL:https://business.fairfieldsuisunchamber.com/events/details/winery-event-05-22-2015-1892
END:VEVENT

END:VCALENDAR
