BEGIN:VCALENDAR
VERSION:2.0
PRODID:-//ChamberMaster//Event Calendar 2.0//EN
METHOD:PUBLISH
X-PUBLISHED-TTL:P3D
REFRESH-INTERVAL:P3D
CALSCALE:GREGORIAN
BEGIN:VEVENT
DTSTART:20171005T170000Z
DTEND:20171005T210000Z
X-MICROSOFT-CDO-ALLDAYEVENT:FALSE
SUMMARY:Workforce Investment Board Regional Career Fair
DESCRIPTION:The Workforce Investment Board Career Fair is the largest career fair in Solano County. \n\n\n\nCareer Fair Tips:\n\n	Arrive early to ensure plenty of time to meet employer representatives\n	Come prepared with an ample supply of up-to-date resumes\n	Dress professionally\n	Be prepared for on-site interviews
X-ALT-DESC;FMTTYPE=text/html:The Workforce Investment Board Career Fair is the largest career fair in Solano County.&nbsp\;<br />\n<br />\nCareer Fair Tips:\n<ul>\n	<li>Arrive early to ensure plenty of time to meet employer representatives</li>\n	<li>Come prepared with an ample supply of up-to-date resumes</li>\n	<li>Dress professionally</li>\n	<li>Be prepared for on-site interviews</li>\n</ul>\n
LOCATION:Workforce Development Board 320 Campus Lane\, Fairfield
UID:e.1602.3591
SEQUENCE:3
DTSTAMP:20260425T183619Z
URL:https://business.fairfieldsuisunchamber.com/events/details/workforce-investment-board-regional-career-fair-3591
END:VEVENT

END:VCALENDAR
